BEGIN:VCALENDAR
VERSION:2.0
PRODID:-//Bank + Vine - ECPv6.15.17//NONSGML v1.0//EN
CALSCALE:GREGORIAN
METHOD:PUBLISH
X-ORIGINAL-URL:https://bank-vine.com
X-WR-CALDESC:Events for Bank + Vine
REFRESH-INTERVAL;VALUE=DURATION:PT1H
X-Robots-Tag:noindex
X-PUBLISHED-TTL:PT1H
BEGIN:VTIMEZONE
TZID:America/New_York
BEGIN:DAYLIGHT
TZOFFSETFROM:-0500
TZOFFSETTO:-0400
TZNAME:EDT
DTSTART:20250309T070000
END:DAYLIGHT
BEGIN:STANDARD
TZOFFSETFROM:-0400
TZOFFSETTO:-0500
TZNAME:EST
DTSTART:20251102T060000
END:STANDARD
BEGIN:DAYLIGHT
TZOFFSETFROM:-0500
TZOFFSETTO:-0400
TZNAME:EDT
DTSTART:20260308T070000
END:DAYLIGHT
BEGIN:STANDARD
TZOFFSETFROM:-0400
TZOFFSETTO:-0500
TZNAME:EST
DTSTART:20261101T060000
END:STANDARD
BEGIN:DAYLIGHT
TZOFFSETFROM:-0500
TZOFFSETTO:-0400
TZNAME:EDT
DTSTART:20270314T070000
END:DAYLIGHT
BEGIN:STANDARD
TZOFFSETFROM:-0400
TZOFFSETTO:-0500
TZNAME:EST
DTSTART:20271107T060000
END:STANDARD
END:VTIMEZONE
BEGIN:VEVENT
DTSTART;TZID=America/New_York:20260116T170000
DTEND;TZID=America/New_York:20260116T220000
DTSTAMP:20260419T075832
CREATED:20260113T145406Z
LAST-MODIFIED:20260113T145406Z
UID:2305-1768582800-1768600800@bank-vine.com
SUMMARY:Bank + Vine  - Girl Dinner
DESCRIPTION:
URL:https://bank-vine.com/event/bank-vine-girl-dinner-29/
LOCATION:Bank+Vine\, 268 S. Main St.\, Wilkes-Barre\, PA\, 18701\, United States
CATEGORIES:Girl Dinner
ATTACH;FMTTYPE=image/jpeg:https://bank-vine.com/wp-content/uploads/2026/01/610946787_1475157274617245_1866167732244421555_n.jpg
END:VEVENT
BEGIN:VEVENT
DTSTART;TZID=America/New_York:20260123T170000
DTEND;TZID=America/New_York:20260123T220000
DTSTAMP:20260419T075832
CREATED:20260113T145438Z
LAST-MODIFIED:20260113T145438Z
UID:2307-1769187600-1769205600@bank-vine.com
SUMMARY:Bank + Vine  - Girl Dinner
DESCRIPTION:
URL:https://bank-vine.com/event/bank-vine-girl-dinner-30/
LOCATION:Bank+Vine\, 268 S. Main St.\, Wilkes-Barre\, PA\, 18701\, United States
CATEGORIES:Girl Dinner
ATTACH;FMTTYPE=image/jpeg:https://bank-vine.com/wp-content/uploads/2026/01/610946787_1475157274617245_1866167732244421555_n.jpg
END:VEVENT
BEGIN:VEVENT
DTSTART;TZID=America/New_York:20260130T170000
DTEND;TZID=America/New_York:20260130T220000
DTSTAMP:20260419T075832
CREATED:20260113T145502Z
LAST-MODIFIED:20260113T145502Z
UID:2308-1769792400-1769810400@bank-vine.com
SUMMARY:Bank + Vine  - Girl Dinner
DESCRIPTION:
URL:https://bank-vine.com/event/bank-vine-girl-dinner-31/
LOCATION:Bank+Vine\, 268 S. Main St.\, Wilkes-Barre\, PA\, 18701\, United States
CATEGORIES:Girl Dinner
ATTACH;FMTTYPE=image/jpeg:https://bank-vine.com/wp-content/uploads/2026/01/610946787_1475157274617245_1866167732244421555_n.jpg
END:VEVENT
BEGIN:VEVENT
DTSTART;TZID=America/New_York:20260206T160000
DTEND;TZID=America/New_York:20260206T210000
DTSTAMP:20260419T075832
CREATED:20260120T201622Z
LAST-MODIFIED:20260120T201622Z
UID:2317-1770393600-1770411600@bank-vine.com
SUMMARY:Bank + Vine  - Girl Dinner
DESCRIPTION:
URL:https://bank-vine.com/event/bank-vine-girl-dinner-34/
LOCATION:Bank+Vine\, 268 S. Main St.\, Wilkes-Barre\, PA\, 18701\, United States
ATTACH;FMTTYPE=image/jpeg:https://bank-vine.com/wp-content/uploads/2026/01/BV-girl-dinner-february-2026.jpg
END:VEVENT
BEGIN:VEVENT
DTSTART;TZID=America/New_York:20260206T170000
DTEND;TZID=America/New_York:20260206T220000
DTSTAMP:20260419T075832
CREATED:20260113T145532Z
LAST-MODIFIED:20260113T145532Z
UID:2309-1770397200-1770415200@bank-vine.com
SUMMARY:Bank + Vine  - Girl Dinner
DESCRIPTION:
URL:https://bank-vine.com/event/bank-vine-girl-dinner-32/
LOCATION:Bank+Vine\, 268 S. Main St.\, Wilkes-Barre\, PA\, 18701\, United States
CATEGORIES:Girl Dinner
ATTACH;FMTTYPE=image/jpeg:https://bank-vine.com/wp-content/uploads/2026/01/610946787_1475157274617245_1866167732244421555_n.jpg
END:VEVENT
BEGIN:VEVENT
DTSTART;TZID=America/New_York:20260208T110000
DTEND;TZID=America/New_York:20260208T150000
DTSTAMP:20260419T075832
CREATED:20260109T163459Z
LAST-MODIFIED:20260109T164513Z
UID:2300-1770548400-1770562800@bank-vine.com
SUMMARY:Bank + Vine  - Galentine's Day
DESCRIPTION:
URL:https://bank-vine.com/event/bank-vine-galentines-day/
LOCATION:Bank+Vine\, 268 S. Main St.\, Wilkes-Barre\, PA\, 18701\, United States
CATEGORIES:HOLIDAY
ATTACH;FMTTYPE=image/jpeg:https://bank-vine.com/wp-content/uploads/2026/01/611270703_1474161831383456_2337538915261348048_n.jpg
END:VEVENT
BEGIN:VEVENT
DTSTART;TZID=America/New_York:20260213T170000
DTEND;TZID=America/New_York:20260213T210000
DTSTAMP:20260419T075832
CREATED:20260120T201725Z
LAST-MODIFIED:20260120T201725Z
UID:2319-1771002000-1771016400@bank-vine.com
SUMMARY:Bank + Vine  - Girl Dinner
DESCRIPTION:
URL:https://bank-vine.com/event/bank-vine-girl-dinner-35/
LOCATION:Bank+Vine\, 268 S. Main St.\, Wilkes-Barre\, PA\, 18701\, United States
ATTACH;FMTTYPE=image/jpeg:https://bank-vine.com/wp-content/uploads/2026/01/BV-girl-dinner-february-2026.jpg
END:VEVENT
BEGIN:VEVENT
DTSTART;TZID=America/New_York:20260220T170000
DTEND;TZID=America/New_York:20260220T210000
DTSTAMP:20260419T075832
CREATED:20260120T201830Z
LAST-MODIFIED:20260120T201830Z
UID:2320-1771606800-1771621200@bank-vine.com
SUMMARY:Bank + Vine  - Girl Dinner
DESCRIPTION:
URL:https://bank-vine.com/event/bank-vine-girl-dinner-36/
LOCATION:Bank+Vine\, 268 S. Main St.\, Wilkes-Barre\, PA\, 18701\, United States
ATTACH;FMTTYPE=image/jpeg:https://bank-vine.com/wp-content/uploads/2026/01/BV-girl-dinner-february-2026.jpg
END:VEVENT
BEGIN:VEVENT
DTSTART;TZID=America/New_York:20260221T160000
DTEND;TZID=America/New_York:20260221T220000
DTSTAMP:20260419T075832
CREATED:20260204T144411Z
LAST-MODIFIED:20260204T144411Z
UID:2337-1771689600-1771711200@bank-vine.com
SUMMARY:Bank + Vine  - Mussel Fest
DESCRIPTION:
URL:https://bank-vine.com/event/bank-vine-mussel-fest/
LOCATION:Bank+Vine\, 268 S. Main St.\, Wilkes-Barre\, PA\, 18701\, United States
ATTACH;FMTTYPE=image/jpeg:https://bank-vine.com/wp-content/uploads/2026/02/2026-save-the-date-.jpg
END:VEVENT
BEGIN:VEVENT
DTSTART;TZID=America/New_York:20260226T170000
DTEND;TZID=America/New_York:20260226T220000
DTSTAMP:20260419T075832
CREATED:20260204T150501Z
LAST-MODIFIED:20260204T150501Z
UID:2340-1772125200-1772143200@bank-vine.com
SUMMARY:Bank + Vine  - Philly Dinner
DESCRIPTION:
URL:https://bank-vine.com/event/bank-vine-philly-dinner/
LOCATION:Bank+Vine\, 268 S. Main St.\, Wilkes-Barre\, PA\, 18701\, United States
CATEGORIES:Themed Dinner
ATTACH;FMTTYPE=image/jpeg:https://bank-vine.com/wp-content/uploads/2026/02/BV-philly-dinner-.jpg
END:VEVENT
BEGIN:VEVENT
DTSTART;TZID=America/New_York:20260227T170000
DTEND;TZID=America/New_York:20260227T210000
DTSTAMP:20260419T075832
CREATED:20260120T201856Z
LAST-MODIFIED:20260120T201856Z
UID:2321-1772211600-1772226000@bank-vine.com
SUMMARY:Bank + Vine  - Girl Dinner
DESCRIPTION:
URL:https://bank-vine.com/event/bank-vine-girl-dinner-37/
LOCATION:Bank+Vine\, 268 S. Main St.\, Wilkes-Barre\, PA\, 18701\, United States
ATTACH;FMTTYPE=image/jpeg:https://bank-vine.com/wp-content/uploads/2026/01/BV-girl-dinner-february-2026.jpg
END:VEVENT
BEGIN:VEVENT
DTSTART;TZID=America/New_York:20260228T160000
DTEND;TZID=America/New_York:20260228T220000
DTSTAMP:20260419T075832
CREATED:20260204T144441Z
LAST-MODIFIED:20260204T144441Z
UID:2339-1772294400-1772316000@bank-vine.com
SUMMARY:Bank + Vine  - Mussel Fest
DESCRIPTION:
URL:https://bank-vine.com/event/bank-vine-mussel-fest-2/
LOCATION:Bank+Vine\, 268 S. Main St.\, Wilkes-Barre\, PA\, 18701\, United States
ATTACH;FMTTYPE=image/jpeg:https://bank-vine.com/wp-content/uploads/2026/02/2026-save-the-date-.jpg
END:VEVENT
BEGIN:VEVENT
DTSTART;TZID=America/New_York:20260301T110000
DTEND;TZID=America/New_York:20260301T150000
DTSTAMP:20260419T075832
CREATED:20260113T145044Z
LAST-MODIFIED:20260113T145044Z
UID:2303-1772362800-1772377200@bank-vine.com
SUMMARY:Bank + Vine  - Bridgerton Brunch
DESCRIPTION:
URL:https://bank-vine.com/event/bank-vine-bridgerton-brunch/
LOCATION:Bank+Vine\, 268 S. Main St.\, Wilkes-Barre\, PA\, 18701\, United States
CATEGORIES:Brunch
ATTACH;FMTTYPE=image/jpeg:https://bank-vine.com/wp-content/uploads/2026/01/613643549_1479204917545814_4305210169748576717_n.jpg
END:VEVENT
BEGIN:VEVENT
DTSTART;TZID=America/New_York:20260306T170000
DTEND;TZID=America/New_York:20260306T220000
DTSTAMP:20260419T075832
CREATED:20260224T153037Z
LAST-MODIFIED:20260224T153111Z
UID:2366-1772816400-1772834400@bank-vine.com
SUMMARY:Bank + Vine  - Girl Dinner
DESCRIPTION:
URL:https://bank-vine.com/event/bank-vine-girl-dinner-38/
LOCATION:Bank+Vine\, 268 S. Main St.\, Wilkes-Barre\, PA\, 18701\, United States
CATEGORIES:Girl Dinner
ATTACH;FMTTYPE=image/jpeg:https://bank-vine.com/wp-content/uploads/2026/02/Bv-Girl-dinner-march-2026-1.jpg
END:VEVENT
BEGIN:VEVENT
DTSTART;VALUE=DATE:20260312
DTEND;VALUE=DATE:20260313
DTSTAMP:20260419T075832
CREATED:20260225T185517Z
LAST-MODIFIED:20260225T185517Z
UID:2372-1773273600-1773359999@bank-vine.com
SUMMARY:Bank + Vine  - Philharmonic Discount
DESCRIPTION:
URL:https://bank-vine.com/event/bank-vine-philharmonic-discount/
LOCATION:Bank+Vine\, 268 S. Main St.\, Wilkes-Barre\, PA\, 18701\, United States
ATTACH;FMTTYPE=image/png:https://bank-vine.com/wp-content/uploads/2026/02/Postcards-8.png
END:VEVENT
BEGIN:VEVENT
DTSTART;TZID=America/New_York:20260313T170000
DTEND;TZID=America/New_York:20260313T220000
DTSTAMP:20260419T075832
CREATED:20260224T153130Z
LAST-MODIFIED:20260224T153130Z
UID:2368-1773421200-1773439200@bank-vine.com
SUMMARY:Bank + Vine  - Girl Dinner
DESCRIPTION:
URL:https://bank-vine.com/event/bank-vine-girl-dinner-39/
LOCATION:Bank+Vine\, 268 S. Main St.\, Wilkes-Barre\, PA\, 18701\, United States
CATEGORIES:Girl Dinner
ATTACH;FMTTYPE=image/jpeg:https://bank-vine.com/wp-content/uploads/2026/02/Bv-Girl-dinner-march-2026-1.jpg
END:VEVENT
BEGIN:VEVENT
DTSTART;TZID=America/New_York:20260314T160000
DTEND;TZID=America/New_York:20260314T220000
DTSTAMP:20260419T075832
CREATED:20260223T210924Z
LAST-MODIFIED:20260223T210949Z
UID:2361-1773504000-1773525600@bank-vine.com
SUMMARY:Bank + Vine  - Mussel Fest
DESCRIPTION:
URL:https://bank-vine.com/event/bank-vine-mussel-fest-3/
LOCATION:Bank+Vine\, 268 S. Main St.\, Wilkes-Barre\, PA\, 18701\, United States
ATTACH;FMTTYPE=image/jpeg:https://bank-vine.com/wp-content/uploads/2026/02/2026-save-the-date-.jpg
END:VEVENT
BEGIN:VEVENT
DTSTART;TZID=America/New_York:20260320T170000
DTEND;TZID=America/New_York:20260320T220000
DTSTAMP:20260419T075832
CREATED:20260224T153159Z
LAST-MODIFIED:20260224T153159Z
UID:2369-1774026000-1774044000@bank-vine.com
SUMMARY:Bank + Vine  - Girl Dinner
DESCRIPTION:
URL:https://bank-vine.com/event/bank-vine-girl-dinner-40/
LOCATION:Bank+Vine\, 268 S. Main St.\, Wilkes-Barre\, PA\, 18701\, United States
CATEGORIES:Girl Dinner
ATTACH;FMTTYPE=image/jpeg:https://bank-vine.com/wp-content/uploads/2026/02/Bv-Girl-dinner-march-2026-1.jpg
END:VEVENT
BEGIN:VEVENT
DTSTART;TZID=America/New_York:20260321T160000
DTEND;TZID=America/New_York:20260321T220000
DTSTAMP:20260419T075832
CREATED:20260223T211056Z
LAST-MODIFIED:20260223T211056Z
UID:2362-1774108800-1774130400@bank-vine.com
SUMMARY:Bank + Vine  - Mussel Fest
DESCRIPTION:
URL:https://bank-vine.com/event/bank-vine-mussel-fest-4/
LOCATION:Bank+Vine\, 268 S. Main St.\, Wilkes-Barre\, PA\, 18701\, United States
ATTACH;FMTTYPE=image/jpeg:https://bank-vine.com/wp-content/uploads/2026/02/2026-save-the-date-.jpg
END:VEVENT
BEGIN:VEVENT
DTSTART;TZID=America/New_York:20260327T170000
DTEND;TZID=America/New_York:20260327T220000
DTSTAMP:20260419T075832
CREATED:20260224T153238Z
LAST-MODIFIED:20260224T153238Z
UID:2370-1774630800-1774648800@bank-vine.com
SUMMARY:Bank + Vine  - Girl Dinner
DESCRIPTION:
URL:https://bank-vine.com/event/bank-vine-girl-dinner-41/
LOCATION:Bank+Vine\, 268 S. Main St.\, Wilkes-Barre\, PA\, 18701\, United States
CATEGORIES:Girl Dinner
ATTACH;FMTTYPE=image/jpeg:https://bank-vine.com/wp-content/uploads/2026/02/Bv-Girl-dinner-march-2026-1.jpg
END:VEVENT
BEGIN:VEVENT
DTSTART;VALUE=DATE:20260328
DTEND;VALUE=DATE:20260329
DTSTAMP:20260419T075832
CREATED:20260115T191627Z
LAST-MODIFIED:20260115T191627Z
UID:2314-1774656000-1774742399@bank-vine.com
SUMMARY:Bank + Vine  - Closed for Private Wedding
DESCRIPTION:
URL:https://bank-vine.com/event/bank-vine-closed-for-private-wedding/
LOCATION:Bank+Vine\, 268 S. Main St.\, Wilkes-Barre\, PA\, 18701\, United States
ATTACH;FMTTYPE=image/jpeg:https://bank-vine.com/wp-content/uploads/2026/01/MARCH-28.jpg
END:VEVENT
BEGIN:VEVENT
DTSTART;TZID=America/New_York:20260328T160000
DTEND;TZID=America/New_York:20260328T220000
DTSTAMP:20260419T075832
CREATED:20260223T211117Z
LAST-MODIFIED:20260223T211117Z
UID:2363-1774713600-1774735200@bank-vine.com
SUMMARY:Bank + Vine  - Mussel Fest
DESCRIPTION:
URL:https://bank-vine.com/event/bank-vine-mussel-fest-5/
LOCATION:Bank+Vine\, 268 S. Main St.\, Wilkes-Barre\, PA\, 18701\, United States
ATTACH;FMTTYPE=image/jpeg:https://bank-vine.com/wp-content/uploads/2026/02/2026-save-the-date-.jpg
END:VEVENT
BEGIN:VEVENT
DTSTART;TZID=America/New_York:20260408T170000
DTEND;TZID=America/New_York:20260408T210000
DTSTAMP:20260419T075832
CREATED:20260408T163528Z
LAST-MODIFIED:20260408T163528Z
UID:2392-1775667600-1775682000@bank-vine.com
SUMMARY:Bank + Vine  - Signature Trio
DESCRIPTION:
URL:https://bank-vine.com/event/bank-vine-signature-trio/
LOCATION:Bank+Vine\, 268 S. Main St.\, Wilkes-Barre\, PA\, 18701\, United States
ATTACH;FMTTYPE=image/jpeg:https://bank-vine.com/wp-content/uploads/2026/04/665433185_1557756663023972_7477377618347342684_n.jpg
END:VEVENT
BEGIN:VEVENT
DTSTART;TZID=America/New_York:20260409T170000
DTEND;TZID=America/New_York:20260409T210000
DTSTAMP:20260419T075832
CREATED:20260408T164329Z
LAST-MODIFIED:20260408T164329Z
UID:2399-1775754000-1775768400@bank-vine.com
SUMMARY:Bank + Vine  - Poke Bowls
DESCRIPTION:
URL:https://bank-vine.com/event/bank-vine-poke-bowls/
LOCATION:Bank+Vine\, 268 S. Main St.\, Wilkes-Barre\, PA\, 18701\, United States
ATTACH;FMTTYPE=image/jpeg:https://bank-vine.com/wp-content/uploads/2026/04/663302882_1557782766354695_2744412495194198818_n.jpg
END:VEVENT
BEGIN:VEVENT
DTSTART;TZID=America/New_York:20260410T170000
DTEND;TZID=America/New_York:20260410T220000
DTSTAMP:20260419T075832
CREATED:20260408T164721Z
LAST-MODIFIED:20260408T164721Z
UID:2404-1775840400-1775858400@bank-vine.com
SUMMARY:Bank + Vine  - (New Menu) Girl Dinner
DESCRIPTION:
URL:https://bank-vine.com/event/bank-vine-new-menu-girl-dinner/
LOCATION:Bank+Vine\, 268 S. Main St.\, Wilkes-Barre\, PA\, 18701\, United States
ATTACH;FMTTYPE=image/jpeg:https://bank-vine.com/wp-content/uploads/2026/04/668597417_1557782863021352_1746971352205326000_n.jpg
END:VEVENT
BEGIN:VEVENT
DTSTART;TZID=America/New_York:20260415T170000
DTEND;TZID=America/New_York:20260415T210000
DTSTAMP:20260419T075832
CREATED:20260408T163625Z
LAST-MODIFIED:20260408T163625Z
UID:2395-1776272400-1776286800@bank-vine.com
SUMMARY:Bank + Vine  - Signature Trio
DESCRIPTION:
URL:https://bank-vine.com/event/bank-vine-signature-trio-2/
LOCATION:Bank+Vine\, 268 S. Main St.\, Wilkes-Barre\, PA\, 18701\, United States
ATTACH;FMTTYPE=image/jpeg:https://bank-vine.com/wp-content/uploads/2026/04/665433185_1557756663023972_7477377618347342684_n.jpg
END:VEVENT
BEGIN:VEVENT
DTSTART;TZID=America/New_York:20260416T170000
DTEND;TZID=America/New_York:20260416T210000
DTSTAMP:20260419T075832
CREATED:20260408T164404Z
LAST-MODIFIED:20260408T164404Z
UID:2401-1776358800-1776373200@bank-vine.com
SUMMARY:Bank + Vine  - Poke Bowls
DESCRIPTION:
URL:https://bank-vine.com/event/bank-vine-poke-bowls-2/
LOCATION:Bank+Vine\, 268 S. Main St.\, Wilkes-Barre\, PA\, 18701\, United States
ATTACH;FMTTYPE=image/jpeg:https://bank-vine.com/wp-content/uploads/2026/04/663302882_1557782766354695_2744412495194198818_n.jpg
END:VEVENT
BEGIN:VEVENT
DTSTART;TZID=America/New_York:20260416T180000
DTEND;TZID=America/New_York:20260416T203000
DTSTAMP:20260419T075832
CREATED:20260408T164037Z
LAST-MODIFIED:20260408T164037Z
UID:2398-1776362400-1776371400@bank-vine.com
SUMMARY:Bank + Vine  - Dinner with Chef Dee
DESCRIPTION:
URL:https://bank-vine.com/event/bank-vine-dinner-with-chef-dee/
LOCATION:Bank+Vine\, 268 S. Main St.\, Wilkes-Barre\, PA\, 18701\, United States
CATEGORIES:Themed Dinner
ATTACH;FMTTYPE=image/jpeg:https://bank-vine.com/wp-content/uploads/2026/04/658837302_1552966770169628_1583912106156288887_n.jpg
END:VEVENT
BEGIN:VEVENT
DTSTART;TZID=America/New_York:20260417T170000
DTEND;TZID=America/New_York:20260417T220000
DTSTAMP:20260419T075832
CREATED:20260408T164806Z
LAST-MODIFIED:20260408T164806Z
UID:2406-1776445200-1776463200@bank-vine.com
SUMMARY:Bank + Vine  - (New Menu) Girl Dinner
DESCRIPTION:
URL:https://bank-vine.com/event/bank-vine-new-menu-girl-dinner-2/
LOCATION:Bank+Vine\, 268 S. Main St.\, Wilkes-Barre\, PA\, 18701\, United States
ATTACH;FMTTYPE=image/jpeg:https://bank-vine.com/wp-content/uploads/2026/04/668597417_1557782863021352_1746971352205326000_n.jpg
END:VEVENT
BEGIN:VEVENT
DTSTART;TZID=America/New_York:20260422T170000
DTEND;TZID=America/New_York:20260422T210000
DTSTAMP:20260419T075832
CREATED:20260408T163703Z
LAST-MODIFIED:20260408T163703Z
UID:2396-1776877200-1776891600@bank-vine.com
SUMMARY:Bank + Vine  - Signature Trio
DESCRIPTION:
URL:https://bank-vine.com/event/bank-vine-signature-trio-3/
LOCATION:Bank+Vine\, 268 S. Main St.\, Wilkes-Barre\, PA\, 18701\, United States
ATTACH;FMTTYPE=image/jpeg:https://bank-vine.com/wp-content/uploads/2026/04/665433185_1557756663023972_7477377618347342684_n.jpg
END:VEVENT
END:VCALENDAR