BEGIN:VCALENDAR
VERSION:2.0
PRODID:-//Bank + Vine - ECPv6.15.17//NONSGML v1.0//EN
CALSCALE:GREGORIAN
METHOD:PUBLISH
X-WR-CALNAME:Bank + Vine
X-ORIGINAL-URL:https://bank-vine.com
X-WR-CALDESC:Events for Bank + Vine
REFRESH-INTERVAL;VALUE=DURATION:PT1H
X-Robots-Tag:noindex
X-PUBLISHED-TTL:PT1H
BEGIN:VTIMEZONE
TZID:America/New_York
BEGIN:DAYLIGHT
TZOFFSETFROM:-0500
TZOFFSETTO:-0400
TZNAME:EDT
DTSTART:20250309T070000
END:DAYLIGHT
BEGIN:STANDARD
TZOFFSETFROM:-0400
TZOFFSETTO:-0500
TZNAME:EST
DTSTART:20251102T060000
END:STANDARD
BEGIN:DAYLIGHT
TZOFFSETFROM:-0500
TZOFFSETTO:-0400
TZNAME:EDT
DTSTART:20260308T070000
END:DAYLIGHT
BEGIN:STANDARD
TZOFFSETFROM:-0400
TZOFFSETTO:-0500
TZNAME:EST
DTSTART:20261101T060000
END:STANDARD
BEGIN:DAYLIGHT
TZOFFSETFROM:-0500
TZOFFSETTO:-0400
TZNAME:EDT
DTSTART:20270314T070000
END:DAYLIGHT
BEGIN:STANDARD
TZOFFSETFROM:-0400
TZOFFSETTO:-0500
TZNAME:EST
DTSTART:20271107T060000
END:STANDARD
END:VTIMEZONE
BEGIN:VEVENT
DTSTART;TZID=America/New_York:20260423T170000
DTEND;TZID=America/New_York:20260423T210000
DTSTAMP:20260425T094235
CREATED:20260408T164432Z
LAST-MODIFIED:20260408T164432Z
UID:2402-1776963600-1776978000@bank-vine.com
SUMMARY:Bank + Vine  - Poke Bowls
DESCRIPTION:
URL:https://bank-vine.com/event/bank-vine-poke-bowls-3/
LOCATION:Bank+Vine\, 268 S. Main St.\, Wilkes-Barre\, PA\, 18701\, United States
ATTACH;FMTTYPE=image/jpeg:https://bank-vine.com/wp-content/uploads/2026/04/663302882_1557782766354695_2744412495194198818_n.jpg
END:VEVENT
BEGIN:VEVENT
DTSTART;TZID=America/New_York:20260424T170000
DTEND;TZID=America/New_York:20260424T220000
DTSTAMP:20260425T094235
CREATED:20260408T164834Z
LAST-MODIFIED:20260408T164834Z
UID:2407-1777050000-1777068000@bank-vine.com
SUMMARY:Bank + Vine  - (New Menu) Girl Dinner
DESCRIPTION:
URL:https://bank-vine.com/event/bank-vine-new-menu-girl-dinner-3/
LOCATION:Bank+Vine\, 268 S. Main St.\, Wilkes-Barre\, PA\, 18701\, United States
ATTACH;FMTTYPE=image/jpeg:https://bank-vine.com/wp-content/uploads/2026/04/668597417_1557782863021352_1746971352205326000_n.jpg
END:VEVENT
BEGIN:VEVENT
DTSTART;TZID=America/New_York:20260429T170000
DTEND;TZID=America/New_York:20260429T210000
DTSTAMP:20260425T094235
CREATED:20260408T163730Z
LAST-MODIFIED:20260408T163730Z
UID:2397-1777482000-1777496400@bank-vine.com
SUMMARY:Bank + Vine  - Signature Trio
DESCRIPTION:
URL:https://bank-vine.com/event/bank-vine-signature-trio-4/
LOCATION:Bank+Vine\, 268 S. Main St.\, Wilkes-Barre\, PA\, 18701\, United States
ATTACH;FMTTYPE=image/jpeg:https://bank-vine.com/wp-content/uploads/2026/04/665433185_1557756663023972_7477377618347342684_n.jpg
END:VEVENT
BEGIN:VEVENT
DTSTART;TZID=America/New_York:20260430T170000
DTEND;TZID=America/New_York:20260430T210000
DTSTAMP:20260425T094235
CREATED:20260408T164454Z
LAST-MODIFIED:20260408T164454Z
UID:2403-1777568400-1777582800@bank-vine.com
SUMMARY:Bank + Vine  - Poke Bowls
DESCRIPTION:
URL:https://bank-vine.com/event/bank-vine-poke-bowls-4/
LOCATION:Bank+Vine\, 268 S. Main St.\, Wilkes-Barre\, PA\, 18701\, United States
ATTACH;FMTTYPE=image/jpeg:https://bank-vine.com/wp-content/uploads/2026/04/663302882_1557782766354695_2744412495194198818_n.jpg
END:VEVENT
BEGIN:VEVENT
DTSTART;VALUE=DATE:20260502
DTEND;VALUE=DATE:20260503
DTSTAMP:20260425T094235
CREATED:20260115T194433Z
LAST-MODIFIED:20260115T194433Z
UID:2315-1777680000-1777766399@bank-vine.com
SUMMARY:Bank + Vine  - Closed for Private Wedding
DESCRIPTION:
URL:https://bank-vine.com/event/bank-vine-closed-for-private-wedding-2/
LOCATION:Bank+Vine\, 268 S. Main St.\, Wilkes-Barre\, PA\, 18701\, United States
ATTACH;FMTTYPE=image/jpeg:https://bank-vine.com/wp-content/uploads/2026/01/MAY-2.jpg
END:VEVENT
BEGIN:VEVENT
DTSTART;TZID=America/New_York:20260509T110000
DTEND;TZID=America/New_York:20260509T153000
DTSTAMP:20260425T094235
CREATED:20260420T175803Z
LAST-MODIFIED:20260420T175803Z
UID:2424-1778324400-1778340600@bank-vine.com
SUMMARY:Bank + Vine  - The Devil Wears Prada
DESCRIPTION:
URL:https://bank-vine.com/event/bank-vine-the-devil-wears-prada/
LOCATION:Bank+Vine\, 268 S. Main St.\, Wilkes-Barre\, PA\, 18701\, United States
ATTACH;FMTTYPE=image/png:https://bank-vine.com/wp-content/uploads/2026/04/Devil-Wears-Prada-event-2026-3-scaled.png
END:VEVENT
BEGIN:VEVENT
DTSTART;TZID=America/New_York:20260510T100000
DTEND;TZID=America/New_York:20260510T150000
DTSTAMP:20260425T094235
CREATED:20260408T165358Z
LAST-MODIFIED:20260408T165358Z
UID:2408-1778407200-1778425200@bank-vine.com
SUMMARY:Bank + Vine  - Mother's Day
DESCRIPTION:
URL:https://bank-vine.com/event/bank-vine-mothers-day/
LOCATION:Bank+Vine\, 268 S. Main St.\, Wilkes-Barre\, PA\, 18701\, United States
ATTACH;FMTTYPE=image/jpeg:https://bank-vine.com/wp-content/uploads/2026/04/Hours.jpg
END:VEVENT
BEGIN:VEVENT
DTSTART;TZID=America/New_York:20260604T170000
DTEND;TZID=America/New_York:20260604T210000
DTSTAMP:20260425T094235
CREATED:20260223T210310Z
LAST-MODIFIED:20260223T210310Z
UID:2354-1780592400-1780606800@bank-vine.com
SUMMARY:Bank + Vine  - Seafood Boil
DESCRIPTION:
URL:https://bank-vine.com/event/bank-vine-seafood-boil/
LOCATION:Bank+Vine\, 268 S. Main St.\, Wilkes-Barre\, PA\, 18701\, United States
ATTACH;FMTTYPE=image/jpeg:https://bank-vine.com/wp-content/uploads/2026/02/2026-save-the-date-1.jpg
END:VEVENT
BEGIN:VEVENT
DTSTART;TZID=America/New_York:20260611T170000
DTEND;TZID=America/New_York:20260611T210000
DTSTAMP:20260425T094235
CREATED:20260223T210355Z
LAST-MODIFIED:20260223T210355Z
UID:2357-1781197200-1781211600@bank-vine.com
SUMMARY:Bank + Vine  - Seafood Boil
DESCRIPTION:
URL:https://bank-vine.com/event/bank-vine-seafood-boil-2/
LOCATION:Bank+Vine\, 268 S. Main St.\, Wilkes-Barre\, PA\, 18701\, United States
ATTACH;FMTTYPE=image/jpeg:https://bank-vine.com/wp-content/uploads/2026/02/2026-save-the-date-1.jpg
END:VEVENT
BEGIN:VEVENT
DTSTART;TZID=America/New_York:20260618T170000
DTEND;TZID=America/New_York:20260618T210000
DTSTAMP:20260425T094235
CREATED:20260223T210418Z
LAST-MODIFIED:20260223T210418Z
UID:2358-1781802000-1781816400@bank-vine.com
SUMMARY:Bank + Vine  - Seafood Boil
DESCRIPTION:
URL:https://bank-vine.com/event/bank-vine-seafood-boil-3/
LOCATION:Bank+Vine\, 268 S. Main St.\, Wilkes-Barre\, PA\, 18701\, United States
ATTACH;FMTTYPE=image/jpeg:https://bank-vine.com/wp-content/uploads/2026/02/2026-save-the-date-1.jpg
END:VEVENT
BEGIN:VEVENT
DTSTART;TZID=America/New_York:20260625T170000
DTEND;TZID=America/New_York:20260625T210000
DTSTAMP:20260425T094235
CREATED:20260223T210502Z
LAST-MODIFIED:20260223T210502Z
UID:2359-1782406800-1782421200@bank-vine.com
SUMMARY:Bank + Vine  - Seafood Boil
DESCRIPTION:
URL:https://bank-vine.com/event/bank-vine-seafood-boil-4/
LOCATION:Bank+Vine\, 268 S. Main St.\, Wilkes-Barre\, PA\, 18701\, United States
ATTACH;FMTTYPE=image/jpeg:https://bank-vine.com/wp-content/uploads/2026/02/2026-save-the-date-1.jpg
END:VEVENT
BEGIN:VEVENT
DTSTART;VALUE=DATE:20260704
DTEND;VALUE=DATE:20260705
DTSTAMP:20260425T094235
CREATED:20260420T175441Z
LAST-MODIFIED:20260420T175441Z
UID:2420-1783123200-1783209599@bank-vine.com
SUMMARY:Bank + Vine  - Closed
DESCRIPTION:
URL:https://bank-vine.com/event/bank-vine-closed/
LOCATION:Bank+Vine\, 268 S. Main St.\, Wilkes-Barre\, PA\, 18701\, United States
ATTACH;FMTTYPE=image/png:https://bank-vine.com/wp-content/uploads/2026/04/JULY-4TH.png
END:VEVENT
BEGIN:VEVENT
DTSTART;VALUE=DATE:20260705
DTEND;VALUE=DATE:20260706
DTSTAMP:20260425T094235
CREATED:20260420T175537Z
LAST-MODIFIED:20260420T175537Z
UID:2423-1783209600-1783295999@bank-vine.com
SUMMARY:Bank + Vine  - Closed
DESCRIPTION:
URL:https://bank-vine.com/event/bank-vine-closed-2/
LOCATION:Bank+Vine\, 268 S. Main St.\, Wilkes-Barre\, PA\, 18701\, United States
ATTACH;FMTTYPE=image/png:https://bank-vine.com/wp-content/uploads/2026/04/JULY-5TH.png
END:VEVENT
END:VCALENDAR