BEGIN:VCALENDAR
VERSION:2.0
PRODID:-//Bank + Vine - ECPv6.15.17//NONSGML v1.0//EN
CALSCALE:GREGORIAN
METHOD:PUBLISH
X-ORIGINAL-URL:https://bank-vine.com
X-WR-CALDESC:Events for Bank + Vine
REFRESH-INTERVAL;VALUE=DURATION:PT1H
X-Robots-Tag:noindex
X-PUBLISHED-TTL:PT1H
BEGIN:VTIMEZONE
TZID:America/New_York
BEGIN:DAYLIGHT
TZOFFSETFROM:-0500
TZOFFSETTO:-0400
TZNAME:EDT
DTSTART:20210314T070000
END:DAYLIGHT
BEGIN:STANDARD
TZOFFSETFROM:-0400
TZOFFSETTO:-0500
TZNAME:EST
DTSTART:20211107T060000
END:STANDARD
BEGIN:DAYLIGHT
TZOFFSETFROM:-0500
TZOFFSETTO:-0400
TZNAME:EDT
DTSTART:20220313T070000
END:DAYLIGHT
BEGIN:STANDARD
TZOFFSETFROM:-0400
TZOFFSETTO:-0500
TZNAME:EST
DTSTART:20221106T060000
END:STANDARD
BEGIN:DAYLIGHT
TZOFFSETFROM:-0500
TZOFFSETTO:-0400
TZNAME:EDT
DTSTART:20230312T070000
END:DAYLIGHT
BEGIN:STANDARD
TZOFFSETFROM:-0400
TZOFFSETTO:-0500
TZNAME:EST
DTSTART:20231105T060000
END:STANDARD
BEGIN:DAYLIGHT
TZOFFSETFROM:-0500
TZOFFSETTO:-0400
TZNAME:EDT
DTSTART:20240310T070000
END:DAYLIGHT
BEGIN:STANDARD
TZOFFSETFROM:-0400
TZOFFSETTO:-0500
TZNAME:EST
DTSTART:20241103T060000
END:STANDARD
BEGIN:DAYLIGHT
TZOFFSETFROM:-0500
TZOFFSETTO:-0400
TZNAME:EDT
DTSTART:20250309T070000
END:DAYLIGHT
BEGIN:STANDARD
TZOFFSETFROM:-0400
TZOFFSETTO:-0500
TZNAME:EST
DTSTART:20251102T060000
END:STANDARD
END:VTIMEZONE
BEGIN:VEVENT
DTSTART;TZID=America/New_York:20220415T160000
DTEND;TZID=America/New_York:20220415T180000
DTSTAMP:20260421T112903
CREATED:20220411T162900Z
LAST-MODIFIED:20220414T103059Z
UID:1200-1650038400-1650045600@bank-vine.com
SUMMARY:Happy Hour
DESCRIPTION:Every Tuesday-Friday from 4 PM – 6 PM in the lounge! Come visit your favorite bartenders and join us each week with a changing happy hour cocktail menu!
URL:https://bank-vine.com/event/happy-hour-april-15-2022/
LOCATION:Bank+Vine\, 268 S. Main St.\, Wilkes-Barre\, PA\, 18701\, United States
END:VEVENT
BEGIN:VEVENT
DTSTART;TZID=America/New_York:20220417T103000
DTEND;TZID=America/New_York:20220417T170000
DTSTAMP:20260421T112903
CREATED:20220321T154513Z
LAST-MODIFIED:20220411T171248Z
UID:1188-1650191400-1650214800@bank-vine.com
SUMMARY:Easter Sunday With Bank + Vine
DESCRIPTION:Now Accepting Reservations From 10:30 Am – 5:00 Pm Menu To Follow Call Us At 570-901-4040 To Reserve
URL:https://bank-vine.com/event/easter-sunday-with-bank-vine/
LOCATION:Bank+Vine\, 268 S. Main St.\, Wilkes-Barre\, PA\, 18701\, United States
ATTACH;FMTTYPE=image/png:https://bank-vine.com/wp-content/uploads/2022/03/Peach-Easter-Sale-BankVine.png
END:VEVENT
BEGIN:VEVENT
DTSTART;TZID=America/New_York:20220419T160000
DTEND;TZID=America/New_York:20220419T180000
DTSTAMP:20260421T112903
CREATED:20220411T163008Z
LAST-MODIFIED:20220414T103048Z
UID:1201-1650384000-1650391200@bank-vine.com
SUMMARY:Happy Hour
DESCRIPTION:Every Tuesday-Friday from 4 PM – 6 PM in the lounge! Come visit your favorite bartenders and join us each week with a changing happy hour cocktail menu!
URL:https://bank-vine.com/event/happy-hour-april-19-2022/
LOCATION:Bank+Vine\, 268 S. Main St.\, Wilkes-Barre\, PA\, 18701\, United States
END:VEVENT
BEGIN:VEVENT
DTSTART;VALUE=DATE:20220420
DTEND;VALUE=DATE:20220422
DTSTAMP:20260421T112903
CREATED:20220411T165125Z
LAST-MODIFIED:20220411T171235Z
UID:1206-1650412800-1650585599@bank-vine.com
SUMMARY:Polish Fest
DESCRIPTION:Call to reserve your spot at 570-901-4040.
URL:https://bank-vine.com/event/polish-fest-april-20-21-2022/
LOCATION:Bank+Vine\, 268 S. Main St.\, Wilkes-Barre\, PA\, 18701\, United States
END:VEVENT
BEGIN:VEVENT
DTSTART;TZID=America/New_York:20220420T160000
DTEND;TZID=America/New_York:20220420T180000
DTSTAMP:20260421T112903
CREATED:20220411T172000Z
LAST-MODIFIED:20220414T103626Z
UID:1213-1650470400-1650477600@bank-vine.com
SUMMARY:Happy Hour
DESCRIPTION:Every Tuesday-Friday from 4 PM – 6 PM in the lounge! Come visit your favorite bartenders and join us each week with a changing happy hour cocktail menu!
URL:https://bank-vine.com/event/happy-hour-april-20-2022/
LOCATION:Bank+Vine\, 268 S. Main St.\, Wilkes-Barre\, PA\, 18701\, United States
END:VEVENT
BEGIN:VEVENT
DTSTART;TZID=America/New_York:20220421T160000
DTEND;TZID=America/New_York:20220421T180000
DTSTAMP:20260421T112903
CREATED:20220411T172037Z
LAST-MODIFIED:20220824T102600Z
UID:1214-1650556800-1650564000@bank-vine.com
SUMMARY:Happy Hour
DESCRIPTION:Every Tuesday-Friday from 4 PM – 6 PM in the lounge! Come visit your favorite bartenders and join us each week with a changing happy hour cocktail menu!
URL:https://bank-vine.com/event/happy-hour-april-21-2022/
LOCATION:Bank+Vine\, 268 S. Main St.\, Wilkes-Barre\, PA\, 18701\, United States
END:VEVENT
BEGIN:VEVENT
DTSTART;TZID=America/New_York:20220422T160000
DTEND;TZID=America/New_York:20220422T180000
DTSTAMP:20260421T112903
CREATED:20220411T163059Z
LAST-MODIFIED:20220414T103032Z
UID:1202-1650643200-1650650400@bank-vine.com
SUMMARY:Happy Hour
DESCRIPTION:Every Tuesday-Friday from 4 PM – 6 PM in the lounge! Come visit your favorite bartenders and join us each week with a changing happy hour cocktail menu!
URL:https://bank-vine.com/event/happy-hour-april-22-2022/
LOCATION:Bank+Vine\, 268 S. Main St.\, Wilkes-Barre\, PA\, 18701\, United States
END:VEVENT
BEGIN:VEVENT
DTSTART;TZID=America/New_York:20220426T160000
DTEND;TZID=America/New_York:20220426T180000
DTSTAMP:20260421T112903
CREATED:20220411T163635Z
LAST-MODIFIED:20220414T103027Z
UID:1204-1650988800-1650996000@bank-vine.com
SUMMARY:Happy Hour
DESCRIPTION:Every Tuesday-Friday from 4 PM – 6 PM in the lounge! Come visit your favorite bartenders and join us each week with a changing happy hour cocktail menu!
URL:https://bank-vine.com/event/happy-hour-april-26-2022/
LOCATION:Bank+Vine\, 268 S. Main St.\, Wilkes-Barre\, PA\, 18701\, United States
END:VEVENT
BEGIN:VEVENT
DTSTART;TZID=America/New_York:20220427T160000
DTEND;TZID=America/New_York:20220427T180000
DTSTAMP:20260421T112903
CREATED:20220411T172838Z
LAST-MODIFIED:20220414T103558Z
UID:1215-1651075200-1651082400@bank-vine.com
SUMMARY:Happy Hour
DESCRIPTION:Every Tuesday-Friday from 4 PM – 6 PM in the lounge! Come visit your favorite bartenders and join us each week with a changing happy hour cocktail menu!
URL:https://bank-vine.com/event/happy-hour-april-27-2022/
LOCATION:Bank+Vine\, 268 S. Main St.\, Wilkes-Barre\, PA\, 18701\, United States
END:VEVENT
BEGIN:VEVENT
DTSTART;TZID=America/New_York:20220428T160000
DTEND;TZID=America/New_York:20220428T180000
DTSTAMP:20260421T112903
CREATED:20220411T172919Z
LAST-MODIFIED:20220414T103550Z
UID:1216-1651161600-1651168800@bank-vine.com
SUMMARY:Happy Hour
DESCRIPTION:Every Tuesday-Friday from 4 PM – 6 PM in the lounge! Come visit your favorite bartenders and join us each week with a changing happy hour cocktail menu!
URL:https://bank-vine.com/event/happy-hour-april-28-2022/
LOCATION:Bank+Vine\, 268 S. Main St.\, Wilkes-Barre\, PA\, 18701\, United States
END:VEVENT
BEGIN:VEVENT
DTSTART;TZID=America/New_York:20220429T160000
DTEND;TZID=America/New_York:20220429T180000
DTSTAMP:20260421T112903
CREATED:20220411T163717Z
LAST-MODIFIED:20220414T102954Z
UID:1205-1651248000-1651255200@bank-vine.com
SUMMARY:Happy Hour
DESCRIPTION:Every Tuesday-Friday from 4 PM – 6 PM in the lounge! Come visit your favorite bartenders and join us each week with a changing happy hour cocktail menu!
URL:https://bank-vine.com/event/happy-hour-april-29-2022/
LOCATION:Bank+Vine\, 268 S. Main St.\, Wilkes-Barre\, PA\, 18701\, United States
END:VEVENT
BEGIN:VEVENT
DTSTART;VALUE=DATE:20220905
DTEND;VALUE=DATE:20220906
DTSTAMP:20260421T112903
CREATED:20220902T072715Z
LAST-MODIFIED:20220902T101612Z
UID:1279-1662336000-1662422399@bank-vine.com
SUMMARY:Closed for Labor Day
DESCRIPTION:
URL:https://bank-vine.com/event/closed-for-labor-day/
LOCATION:Bank+Vine\, 268 S. Main St.\, Wilkes-Barre\, PA\, 18701\, United States
ATTACH;FMTTYPE=image/jpeg:https://bank-vine.com/wp-content/uploads/2022/09/Bank-Vine.jpg
END:VEVENT
BEGIN:VEVENT
DTSTART;VALUE=DATE:20221015
DTEND;VALUE=DATE:20221016
DTSTAMP:20260421T112903
CREATED:20220127T005012Z
LAST-MODIFIED:20220325T133215Z
UID:1134-1665792000-1665878399@bank-vine.com
SUMMARY:CLOSED FOR PRIVATE EVENT
DESCRIPTION:WE WILL BE CLOSED ON SATURDAY\, OCTOBER 15\, 2022 FOR A PRIVATE BUY OUT EVENT! \nWE WILL RESUME REGULAR HOURS OF OPERATION THE FOLLOWING DAY FOR BRUNCH AND DINNER!
URL:https://bank-vine.com/event/closed-for-private-event/
LOCATION:Bank+Vine\, 268 S. Main St.\, Wilkes-Barre\, PA\, 18701\, United States
END:VEVENT
BEGIN:VEVENT
DTSTART;TZID=America/New_York:20230727T180000
DTEND;TZID=America/New_York:20230727T190000
DTSTAMP:20260421T112903
CREATED:20230721T235819Z
LAST-MODIFIED:20230722T000433Z
UID:1346-1690480800-1690484400@bank-vine.com
SUMMARY:Portuguese Wine Dinner
DESCRIPTION:Please call for reservations. Seating times\, 6pm and 7pm.
URL:https://bank-vine.com/event/portuguese-wine-dinner-bankvine/
LOCATION:Bank+Vine\, 268 S. Main St.\, Wilkes-Barre\, PA\, 18701\, United States
END:VEVENT
BEGIN:VEVENT
DTSTART;TZID=America/New_York:20230802T170000
DTEND;TZID=America/New_York:20230802T210000
DTSTAMP:20260421T112903
CREATED:20230722T001659Z
LAST-MODIFIED:20230722T001659Z
UID:1351-1690995600-1691010000@bank-vine.com
SUMMARY:Seafood Boil
DESCRIPTION:
URL:https://bank-vine.com/event/seafood-boil/
LOCATION:Bank+Vine\, 268 S. Main St.\, Wilkes-Barre\, PA\, 18701\, United States
END:VEVENT
BEGIN:VEVENT
DTSTART;TZID=America/New_York:20230809T170000
DTEND;TZID=America/New_York:20230809T210000
DTSTAMP:20260421T112903
CREATED:20230722T001741Z
LAST-MODIFIED:20230722T001741Z
UID:1352-1691600400-1691614800@bank-vine.com
SUMMARY:Seafood Boil
DESCRIPTION:
URL:https://bank-vine.com/event/seafood-boil-2/
LOCATION:Bank+Vine\, 268 S. Main St.\, Wilkes-Barre\, PA\, 18701\, United States
END:VEVENT
BEGIN:VEVENT
DTSTART;TZID=America/New_York:20230816T170000
DTEND;TZID=America/New_York:20230816T210000
DTSTAMP:20260421T112903
CREATED:20230722T001824Z
LAST-MODIFIED:20230722T001824Z
UID:1353-1692205200-1692219600@bank-vine.com
SUMMARY:Seafood Boil
DESCRIPTION:
URL:https://bank-vine.com/event/seafood-boil-3/
LOCATION:Bank+Vine\, 268 S. Main St.\, Wilkes-Barre\, PA\, 18701\, United States
END:VEVENT
BEGIN:VEVENT
DTSTART;VALUE=DATE:20230817
DTEND;VALUE=DATE:20230818
DTSTAMP:20260421T112903
CREATED:20230722T000203Z
LAST-MODIFIED:20230722T000203Z
UID:1347-1692230400-1692316799@bank-vine.com
SUMMARY:Spanish Tapas Dinner
DESCRIPTION:Please call us for more information and to make your reservation!
URL:https://bank-vine.com/event/spanish-tapas-dinner/
LOCATION:Bank+Vine\, 268 S. Main St.\, Wilkes-Barre\, PA\, 18701\, United States
END:VEVENT
BEGIN:VEVENT
DTSTART;TZID=America/New_York:20230823T170000
DTEND;TZID=America/New_York:20230823T210000
DTSTAMP:20260421T112903
CREATED:20230722T001854Z
LAST-MODIFIED:20230722T001854Z
UID:1354-1692810000-1692824400@bank-vine.com
SUMMARY:Seafood Boil
DESCRIPTION:
URL:https://bank-vine.com/event/seafood-boil-4/
LOCATION:Bank+Vine\, 268 S. Main St.\, Wilkes-Barre\, PA\, 18701\, United States
END:VEVENT
BEGIN:VEVENT
DTSTART;TZID=America/New_York:20230824T170000
DTEND;TZID=America/New_York:20230826T210000
DTSTAMP:20260421T112903
CREATED:20230722T000344Z
LAST-MODIFIED:20230722T001154Z
UID:1348-1692896400-1693083600@bank-vine.com
SUMMARY:Burger Bash + Beer Garden
DESCRIPTION:Menus and Specials coming soon!
URL:https://bank-vine.com/event/burger-bash-beer-garden/
LOCATION:Bank+Vine\, 268 S. Main St.\, Wilkes-Barre\, PA\, 18701\, United States
END:VEVENT
BEGIN:VEVENT
DTSTART;TZID=America/New_York:20230830T170000
DTEND;TZID=America/New_York:20230830T210000
DTSTAMP:20260421T112903
CREATED:20230722T001919Z
LAST-MODIFIED:20230722T001919Z
UID:1355-1693414800-1693429200@bank-vine.com
SUMMARY:Seafood Boil
DESCRIPTION:
URL:https://bank-vine.com/event/seafood-boil-5/
LOCATION:Bank+Vine\, 268 S. Main St.\, Wilkes-Barre\, PA\, 18701\, United States
END:VEVENT
BEGIN:VEVENT
DTSTART;VALUE=DATE:20230905
DTEND;VALUE=DATE:20230911
DTSTAMP:20260421T112903
CREATED:20230722T000534Z
LAST-MODIFIED:20230722T001104Z
UID:1349-1693872000-1694390399@bank-vine.com
SUMMARY:Mussel Fest
DESCRIPTION:Love Mussels? This event is for you!
URL:https://bank-vine.com/event/mussel-fest-2/
LOCATION:Bank+Vine\, 268 S. Main St.\, Wilkes-Barre\, PA\, 18701\, United States
END:VEVENT
BEGIN:VEVENT
DTSTART;VALUE=DATE:20230912
DTEND;VALUE=DATE:20230918
DTSTAMP:20260421T112903
CREATED:20230722T000700Z
LAST-MODIFIED:20230911T192956Z
UID:1350-1694476800-1694995199@bank-vine.com
SUMMARY:E Cosi Italian Takeover
DESCRIPTION:Menu and reservations will be released soon\, stay tuned! \n 
URL:https://bank-vine.com/event/e-cosi-italian-takeover/
LOCATION:Bank+Vine\, 268 S. Main St.\, Wilkes-Barre\, PA\, 18701\, United States
END:VEVENT
BEGIN:VEVENT
DTSTART;VALUE=DATE:20240117
DTEND;VALUE=DATE:20240118
DTSTAMP:20260421T112903
CREATED:20240108T213212Z
LAST-MODIFIED:20240108T213212Z
UID:1390-1705449600-1705535999@bank-vine.com
SUMMARY:Date Night- $39 Menu
DESCRIPTION:Wednesdays are for Lovers! \nJoin us every Wednesday in January as we offer a specialty menu for our new Winter Date Night series! \nEnjoy a specialty 3 course dinner at just $39.00 per person with your favorite dishes featured!\nReservations suggested\, but not required!
URL:https://bank-vine.com/event/date-night-39-menu/
LOCATION:Bank+Vine\, 268 S. Main St.\, Wilkes-Barre\, PA\, 18701\, United States
ATTACH;FMTTYPE=image/png:https://bank-vine.com/wp-content/uploads/2024/01/BV-Winter-Date-Night_January-2024.png
END:VEVENT
BEGIN:VEVENT
DTSTART;VALUE=DATE:20240124
DTEND;VALUE=DATE:20240125
DTSTAMP:20260421T112903
CREATED:20240108T213251Z
LAST-MODIFIED:20240108T213313Z
UID:1392-1706054400-1706140799@bank-vine.com
SUMMARY:Date Night- $39 Menu
DESCRIPTION:Wednesdays are for Lovers! \nJoin us every Wednesday in January as we offer a specialty menu for our new Winter Date Night series! \nEnjoy a specialty 3 course dinner at just $39.00 per person with your favorite dishes featured!\nReservations suggested\, but not required!
URL:https://bank-vine.com/event/date-night-39-menu-2/
LOCATION:Bank+Vine\, 268 S. Main St.\, Wilkes-Barre\, PA\, 18701\, United States
ATTACH;FMTTYPE=image/png:https://bank-vine.com/wp-content/uploads/2024/01/BV-Winter-Date-Night_January-2024.png
END:VEVENT
BEGIN:VEVENT
DTSTART;VALUE=DATE:20240125
DTEND;VALUE=DATE:20240129
DTSTAMP:20260421T112903
CREATED:20240108T205811Z
LAST-MODIFIED:20240108T205907Z
UID:1387-1706140800-1706486399@bank-vine.com
SUMMARY:Chocolate + Bourbon Pairing Menu
DESCRIPTION:Our culinary team is at it again\, this time with a fun pairing menu all about Bourbon paired with dishes focusing on including Chocolate into each course! Available for 4 nights at the end of January\, this feature menu will be available along with our regular dinner menu! \nWhat can you expect? \n4 Course Dinner\n4- Bourbon Pairings- 1 for each course\nAdditional Specialty Themed Cocktail for Purchase for all the Chocolate Lovers \nMenu & Pricing to follow! \nReservations are required for each day! Please contact us at 570-901-4040 to reserve your spot\, seating is limited each night!
URL:https://bank-vine.com/event/chocolate-bourbon-pairing-menu/
LOCATION:Bank+Vine\, 268 S. Main St.\, Wilkes-Barre\, PA\, 18701\, United States
ATTACH;FMTTYPE=application/pdf:https://bank-vine.com/wp-content/uploads/2024/01/BV-CHOCBOURBON-PAIRING-1.pdf
END:VEVENT
BEGIN:VEVENT
DTSTART;VALUE=DATE:20240131
DTEND;VALUE=DATE:20240201
DTSTAMP:20260421T112903
CREATED:20240108T213359Z
LAST-MODIFIED:20240108T213359Z
UID:1393-1706659200-1706745599@bank-vine.com
SUMMARY:Date Night- $39 Menu
DESCRIPTION:Wednesdays are for Lovers! \nJoin us every Wednesday in January as we offer a specialty menu for our new Winter Date Night series! \nEnjoy a specialty 3 course dinner at just $39.00 per person with your favorite dishes featured!\nReservations suggested\, but not required!
URL:https://bank-vine.com/event/date-night-39-menu-3/
LOCATION:Bank+Vine\, 268 S. Main St.\, Wilkes-Barre\, PA\, 18701\, United States
ATTACH;FMTTYPE=image/png:https://bank-vine.com/wp-content/uploads/2024/01/BV-Winter-Date-Night_January-2024.png
END:VEVENT
BEGIN:VEVENT
DTSTART;VALUE=DATE:20240209
DTEND;VALUE=DATE:20240212
DTSTAMP:20260421T112903
CREATED:20240108T223314Z
LAST-MODIFIED:20240131T170710Z
UID:1396-1707436800-1707695999@bank-vine.com
SUMMARY:Valentine's Features!
DESCRIPTION:
URL:https://bank-vine.com/event/valentines-3-course-dinner/
LOCATION:Bank+Vine\, 268 S. Main St.\, Wilkes-Barre\, PA\, 18701\, United States
END:VEVENT
BEGIN:VEVENT
DTSTART;VALUE=DATE:20240213
DTEND;VALUE=DATE:20240215
DTSTAMP:20260421T112903
CREATED:20240108T223349Z
LAST-MODIFIED:20240131T171506Z
UID:1398-1707782400-1707955199@bank-vine.com
SUMMARY:Valentine's 3 Course Dinner
DESCRIPTION:Available on 2/13 – 2/14 only!\nOur regular dinner menu will not be available on these days!
URL:https://bank-vine.com/event/valentines-3-course-dinner-2/
LOCATION:Bank+Vine\, 268 S. Main St.\, Wilkes-Barre\, PA\, 18701\, United States
ATTACH;FMTTYPE=image/png:https://bank-vine.com/wp-content/uploads/2024/01/VDAY-Chef-Tasting-Save-the-Date.png
END:VEVENT
BEGIN:VEVENT
DTSTART;VALUE=DATE:20240216
DTEND;VALUE=DATE:20240217
DTSTAMP:20260421T112903
CREATED:20240108T224440Z
LAST-MODIFIED:20240108T224440Z
UID:1399-1708041600-1708127999@bank-vine.com
SUMMARY:Fish Fry Fridays!
DESCRIPTION:Carry Out or Dine In every Friday and enjoy an assortment of Fried Fish Features! \nTake Out Orders require a pre-order directly through our restaurant by calling 570-901-4040.\nPick up will begin by 5:00pm every Friday! \nMENU TO FOLLOW
URL:https://bank-vine.com/event/fish-fry-fridays/
LOCATION:Bank+Vine\, 268 S. Main St.\, Wilkes-Barre\, PA\, 18701\, United States
ATTACH;FMTTYPE=image/png:https://bank-vine.com/wp-content/uploads/2024/01/BV-FISH-FRY-FRIDAYS-2024.png
END:VEVENT
END:VCALENDAR