BEGIN:VCALENDAR
VERSION:2.0
PRODID:-//Bank + Vine - ECPv6.15.17//NONSGML v1.0//EN
CALSCALE:GREGORIAN
METHOD:PUBLISH
X-WR-CALNAME:Bank + Vine
X-ORIGINAL-URL:https://bank-vine.com
X-WR-CALDESC:Events for Bank + Vine
REFRESH-INTERVAL;VALUE=DURATION:PT1H
X-Robots-Tag:noindex
X-PUBLISHED-TTL:PT1H
BEGIN:VTIMEZONE
TZID:America/New_York
BEGIN:DAYLIGHT
TZOFFSETFROM:-0500
TZOFFSETTO:-0400
TZNAME:EDT
DTSTART:20240310T070000
END:DAYLIGHT
BEGIN:STANDARD
TZOFFSETFROM:-0400
TZOFFSETTO:-0500
TZNAME:EST
DTSTART:20241103T060000
END:STANDARD
BEGIN:DAYLIGHT
TZOFFSETFROM:-0500
TZOFFSETTO:-0400
TZNAME:EDT
DTSTART:20250309T070000
END:DAYLIGHT
BEGIN:STANDARD
TZOFFSETFROM:-0400
TZOFFSETTO:-0500
TZNAME:EST
DTSTART:20251102T060000
END:STANDARD
BEGIN:DAYLIGHT
TZOFFSETFROM:-0500
TZOFFSETTO:-0400
TZNAME:EDT
DTSTART:20260308T070000
END:DAYLIGHT
BEGIN:STANDARD
TZOFFSETFROM:-0400
TZOFFSETTO:-0500
TZNAME:EST
DTSTART:20261101T060000
END:STANDARD
END:VTIMEZONE
BEGIN:VEVENT
DTSTART;TZID=America/New_York:20251120T170000
DTEND;TZID=America/New_York:20251120T210000
DTSTAMP:20260419T143915
CREATED:20251023T205327Z
LAST-MODIFIED:20251023T205327Z
UID:2229-1763658000-1763672400@bank-vine.com
SUMMARY:Bank + Vine - Date Night
DESCRIPTION:
URL:https://bank-vine.com/event/bank-vine-date-night-34/
LOCATION:Bank+Vine\, 268 S. Main St.\, Wilkes-Barre\, PA\, 18701\, United States
CATEGORIES:Date Night
ATTACH;FMTTYPE=image/jpeg:https://bank-vine.com/wp-content/uploads/2025/10/bV-october-date-night-2.jpg
END:VEVENT
BEGIN:VEVENT
DTSTART;TZID=America/New_York:20251119T170000
DTEND;TZID=America/New_York:20251119T210000
DTSTAMP:20260419T143915
CREATED:20251023T205247Z
LAST-MODIFIED:20251023T205306Z
UID:2228-1763571600-1763586000@bank-vine.com
SUMMARY:Bank + Vine - Date Night
DESCRIPTION:
URL:https://bank-vine.com/event/bank-vine-date-night-33/
LOCATION:Bank+Vine\, 268 S. Main St.\, Wilkes-Barre\, PA\, 18701\, United States
CATEGORIES:Date Night
ATTACH;FMTTYPE=image/jpeg:https://bank-vine.com/wp-content/uploads/2025/10/bV-october-date-night-2.jpg
END:VEVENT
BEGIN:VEVENT
DTSTART;TZID=America/New_York:20251115T160000
DTEND;TZID=America/New_York:20251116T220000
DTSTAMP:20260419T143915
CREATED:20251106T174419Z
LAST-MODIFIED:20251106T174419Z
UID:2245-1763222400-1763330400@bank-vine.com
SUMMARY:Bank + Vine - Italian Week
DESCRIPTION:
URL:https://bank-vine.com/event/bank-vine-italian-week-4/
LOCATION:Bank+Vine\, 268 S. Main St.\, Wilkes-Barre\, PA\, 18701\, United States
CATEGORIES:Themed Dinner
ATTACH;FMTTYPE=image/jpeg:https://bank-vine.com/wp-content/uploads/2025/11/Italian-week-dinner-menu.jpg
END:VEVENT
BEGIN:VEVENT
DTSTART;TZID=America/New_York:20251114T170000
DTEND;TZID=America/New_York:20251115T220000
DTSTAMP:20260419T143915
CREATED:20251106T174349Z
LAST-MODIFIED:20251106T174349Z
UID:2244-1763139600-1763244000@bank-vine.com
SUMMARY:Bank + Vine - Italian Week
DESCRIPTION:
URL:https://bank-vine.com/event/bank-vine-italian-week-3/
LOCATION:Bank+Vine\, 268 S. Main St.\, Wilkes-Barre\, PA\, 18701\, United States
CATEGORIES:Themed Dinner
ATTACH;FMTTYPE=image/jpeg:https://bank-vine.com/wp-content/uploads/2025/11/Italian-week-dinner-menu.jpg
END:VEVENT
BEGIN:VEVENT
DTSTART;TZID=America/New_York:20251113T170000
DTEND;TZID=America/New_York:20251113T210000
DTSTAMP:20260419T143915
CREATED:20251106T174700Z
LAST-MODIFIED:20251106T174700Z
UID:2246-1763053200-1763067600@bank-vine.com
SUMMARY:Bank + Vine - Italian Week
DESCRIPTION:
URL:https://bank-vine.com/event/bank-vine-italian-week/
LOCATION:Bank+Vine\, 268 S. Main St.\, Wilkes-Barre\, PA\, 18701\, United States
CATEGORIES:Themed Dinner
ATTACH;FMTTYPE=image/jpeg:https://bank-vine.com/wp-content/uploads/2025/11/Italian-week-dinner-menu.jpg
END:VEVENT
BEGIN:VEVENT
DTSTART;TZID=America/New_York:20251112T170000
DTEND;TZID=America/New_York:20251112T210000
DTSTAMP:20260419T143915
CREATED:20251106T174315Z
LAST-MODIFIED:20251106T174633Z
UID:2242-1762966800-1762981200@bank-vine.com
SUMMARY:Bank + Vine - Italian Week
DESCRIPTION:
URL:https://bank-vine.com/event/bank-vine-italian-week-2/
LOCATION:Bank+Vine\, 268 S. Main St.\, Wilkes-Barre\, PA\, 18701\, United States
CATEGORIES:Themed Dinner
ATTACH;FMTTYPE=image/jpeg:https://bank-vine.com/wp-content/uploads/2025/11/Italian-week-dinner-menu.jpg
END:VEVENT
BEGIN:VEVENT
DTSTART;TZID=America/New_York:20251106T170000
DTEND;TZID=America/New_York:20251106T210000
DTSTAMP:20260419T143915
CREATED:20251023T205223Z
LAST-MODIFIED:20251023T205223Z
UID:2227-1762448400-1762462800@bank-vine.com
SUMMARY:Bank + Vine - Date Night
DESCRIPTION:
URL:https://bank-vine.com/event/bank-vine-date-night-32/
LOCATION:Bank+Vine\, 268 S. Main St.\, Wilkes-Barre\, PA\, 18701\, United States
CATEGORIES:Date Night
ATTACH;FMTTYPE=image/jpeg:https://bank-vine.com/wp-content/uploads/2025/10/bV-october-date-night-2.jpg
END:VEVENT
BEGIN:VEVENT
DTSTART;TZID=America/New_York:20251105T170000
DTEND;TZID=America/New_York:20251105T210000
DTSTAMP:20260419T143915
CREATED:20251023T205201Z
LAST-MODIFIED:20251023T205201Z
UID:2225-1762362000-1762376400@bank-vine.com
SUMMARY:Bank + Vine - Date Night
DESCRIPTION:
URL:https://bank-vine.com/event/bank-vine-date-night-31/
LOCATION:Bank+Vine\, 268 S. Main St.\, Wilkes-Barre\, PA\, 18701\, United States
CATEGORIES:Date Night
ATTACH;FMTTYPE=image/jpeg:https://bank-vine.com/wp-content/uploads/2025/10/bV-october-date-night-2.jpg
END:VEVENT
BEGIN:VEVENT
DTSTART;TZID=America/New_York:20251105T160000
DTEND;TZID=America/New_York:20251123T210000
DTSTAMP:20260419T143915
CREATED:20251104T195639Z
LAST-MODIFIED:20251104T195639Z
UID:2239-1762358400-1763931600@bank-vine.com
SUMMARY:Bank + Vine - Thanksgiving Take Out Orders
DESCRIPTION:
URL:https://bank-vine.com/event/thanksgiving-take-out-orders/
LOCATION:Bank+Vine\, 268 S. Main St.\, Wilkes-Barre\, PA\, 18701\, United States
CATEGORIES:HOLIDAY
ATTACH;FMTTYPE=image/jpeg:https://bank-vine.com/wp-content/uploads/2025/10/BV-thanksgiving-entrees.jpg
END:VEVENT
BEGIN:VEVENT
DTSTART;TZID=America/New_York:20251102T100000
DTEND;TZID=America/New_York:20251102T150000
DTSTAMP:20260419T143915
CREATED:20251017T214140Z
LAST-MODIFIED:20251017T214140Z
UID:2222-1762077600-1762095600@bank-vine.com
SUMMARY:Bank + Vine - Ghoul Dinner
DESCRIPTION:
URL:https://bank-vine.com/event/bank-vine-ghoul-dinner/
LOCATION:Bank+Vine\, 268 S. Main St.\, Wilkes-Barre\, PA\, 18701\, United States
CATEGORIES:Girl Dinner
ATTACH;FMTTYPE=image/png:https://bank-vine.com/wp-content/uploads/2025/10/BV-Ghoul-Dinner-Menu.png
END:VEVENT
BEGIN:VEVENT
DTSTART;TZID=America/New_York:20251031T170000
DTEND;TZID=America/New_York:20251031T220000
DTSTAMP:20260419T143915
CREATED:20251017T214215Z
LAST-MODIFIED:20251017T214215Z
UID:2224-1761930000-1761948000@bank-vine.com
SUMMARY:Bank + Vine - Ghoul Dinner
DESCRIPTION:
URL:https://bank-vine.com/event/bank-vine-ghoul-dinner-2/
LOCATION:Bank+Vine\, 268 S. Main St.\, Wilkes-Barre\, PA\, 18701\, United States
CATEGORIES:Girl Dinner
ATTACH;FMTTYPE=image/png:https://bank-vine.com/wp-content/uploads/2025/10/BV-Ghoul-Dinner-Menu.png
END:VEVENT
BEGIN:VEVENT
DTSTART;TZID=America/New_York:20251030T170000
DTEND;TZID=America/New_York:20251030T210000
DTSTAMP:20260419T143915
CREATED:20251007T173842Z
LAST-MODIFIED:20251007T173842Z
UID:2216-1761843600-1761858000@bank-vine.com
SUMMARY:Bank + Vine - Date Night
DESCRIPTION:
URL:https://bank-vine.com/event/bank-vine-date-night-30/
LOCATION:Bank+Vine\, 268 S. Main St.\, Wilkes-Barre\, PA\, 18701\, United States
CATEGORIES:Girl Dinner
ATTACH;FMTTYPE=image/jpeg:https://bank-vine.com/wp-content/uploads/2025/10/bV-october-date-night.jpg
END:VEVENT
BEGIN:VEVENT
DTSTART;TZID=America/New_York:20251029T170000
DTEND;TZID=America/New_York:20251029T210000
DTSTAMP:20260419T143915
CREATED:20251007T173805Z
LAST-MODIFIED:20251007T173805Z
UID:2215-1761757200-1761771600@bank-vine.com
SUMMARY:Bank + Vine - Date Night
DESCRIPTION:
URL:https://bank-vine.com/event/bank-vine-date-night-29/
LOCATION:Bank+Vine\, 268 S. Main St.\, Wilkes-Barre\, PA\, 18701\, United States
CATEGORIES:Girl Dinner
ATTACH;FMTTYPE=image/jpeg:https://bank-vine.com/wp-content/uploads/2025/10/bV-october-date-night.jpg
END:VEVENT
BEGIN:VEVENT
DTSTART;TZID=America/New_York:20251026T100000
DTEND;TZID=America/New_York:20251026T150000
DTSTAMP:20260419T143915
CREATED:20251007T162328Z
LAST-MODIFIED:20251007T162328Z
UID:2207-1761472800-1761490800@bank-vine.com
SUMMARY:Bank + Vine - Girl Dinner
DESCRIPTION:
URL:https://bank-vine.com/event/bank-vine-girl-dinner-28/
LOCATION:Bank+Vine\, 268 S. Main St.\, Wilkes-Barre\, PA\, 18701\, United States
CATEGORIES:Girl Dinner
ATTACH;FMTTYPE=image/jpeg:https://bank-vine.com/wp-content/uploads/2025/10/girl-dinner.jpg
END:VEVENT
BEGIN:VEVENT
DTSTART;VALUE=DATE:20251025
DTEND;VALUE=DATE:20251026
DTSTAMP:20260419T143915
CREATED:20250813T122421Z
LAST-MODIFIED:20250813T122526Z
UID:2131-1761350400-1761436799@bank-vine.com
SUMMARY:Bank + Vine - Closed For Private Event
DESCRIPTION:
URL:https://bank-vine.com/event/bank-vine-closed-for-private-event-3/
LOCATION:Bank+Vine\, 268 S. Main St.\, Wilkes-Barre\, PA\, 18701\, United States
ATTACH;FMTTYPE=image/jpeg:https://bank-vine.com/wp-content/uploads/2025/08/OCT-25.jpeg
END:VEVENT
BEGIN:VEVENT
DTSTART;TZID=America/New_York:20251024T170000
DTEND;TZID=America/New_York:20251024T220000
DTSTAMP:20260419T143915
CREATED:20251007T162249Z
LAST-MODIFIED:20251007T162249Z
UID:2206-1761325200-1761343200@bank-vine.com
SUMMARY:Bank + Vine - Girl Dinner
DESCRIPTION:
URL:https://bank-vine.com/event/bank-vine-girl-dinner-27/
LOCATION:Bank+Vine\, 268 S. Main St.\, Wilkes-Barre\, PA\, 18701\, United States
CATEGORIES:Girl Dinner
ATTACH;FMTTYPE=image/jpeg:https://bank-vine.com/wp-content/uploads/2025/10/girl-dinner.jpg
END:VEVENT
BEGIN:VEVENT
DTSTART;TZID=America/New_York:20251023T170000
DTEND;TZID=America/New_York:20251023T210000
DTSTAMP:20260419T143915
CREATED:20251007T173725Z
LAST-MODIFIED:20251007T173725Z
UID:2214-1761238800-1761253200@bank-vine.com
SUMMARY:Bank + Vine - Date Night
DESCRIPTION:
URL:https://bank-vine.com/event/bank-vine-date-night-28/
LOCATION:Bank+Vine\, 268 S. Main St.\, Wilkes-Barre\, PA\, 18701\, United States
CATEGORIES:Girl Dinner
ATTACH;FMTTYPE=image/jpeg:https://bank-vine.com/wp-content/uploads/2025/10/bV-october-date-night.jpg
END:VEVENT
BEGIN:VEVENT
DTSTART;TZID=America/New_York:20251022T170000
DTEND;TZID=America/New_York:20251022T210000
DTSTAMP:20260419T143915
CREATED:20251007T173646Z
LAST-MODIFIED:20251007T173646Z
UID:2213-1761152400-1761166800@bank-vine.com
SUMMARY:Bank + Vine - Date Night
DESCRIPTION:
URL:https://bank-vine.com/event/bank-vine-date-night-27/
LOCATION:Bank+Vine\, 268 S. Main St.\, Wilkes-Barre\, PA\, 18701\, United States
CATEGORIES:Girl Dinner
ATTACH;FMTTYPE=image/jpeg:https://bank-vine.com/wp-content/uploads/2025/10/bV-october-date-night.jpg
END:VEVENT
BEGIN:VEVENT
DTSTART;TZID=America/New_York:20251019T100000
DTEND;TZID=America/New_York:20251019T150000
DTSTAMP:20260419T143915
CREATED:20251007T162218Z
LAST-MODIFIED:20251007T162218Z
UID:2205-1760868000-1760886000@bank-vine.com
SUMMARY:Bank + Vine - Girl Dinner
DESCRIPTION:
URL:https://bank-vine.com/event/bank-vine-girl-dinner-26/
LOCATION:Bank+Vine\, 268 S. Main St.\, Wilkes-Barre\, PA\, 18701\, United States
CATEGORIES:Girl Dinner
ATTACH;FMTTYPE=image/jpeg:https://bank-vine.com/wp-content/uploads/2025/10/girl-dinner.jpg
END:VEVENT
BEGIN:VEVENT
DTSTART;TZID=America/New_York:20251017T170000
DTEND;TZID=America/New_York:20251017T220000
DTSTAMP:20260419T143915
CREATED:20251007T162134Z
LAST-MODIFIED:20251007T162134Z
UID:2204-1760720400-1760738400@bank-vine.com
SUMMARY:Bank + Vine - Girl Dinner
DESCRIPTION:
URL:https://bank-vine.com/event/bank-vine-girl-dinner-25/
LOCATION:Bank+Vine\, 268 S. Main St.\, Wilkes-Barre\, PA\, 18701\, United States
CATEGORIES:Girl Dinner
ATTACH;FMTTYPE=image/jpeg:https://bank-vine.com/wp-content/uploads/2025/10/girl-dinner.jpg
END:VEVENT
BEGIN:VEVENT
DTSTART;TZID=America/New_York:20251016T170000
DTEND;TZID=America/New_York:20251016T210000
DTSTAMP:20260419T143915
CREATED:20251007T173556Z
LAST-MODIFIED:20251007T173556Z
UID:2212-1760634000-1760648400@bank-vine.com
SUMMARY:Bank + Vine - Date Night
DESCRIPTION:
URL:https://bank-vine.com/event/bank-vine-date-night-26/
LOCATION:Bank+Vine\, 268 S. Main St.\, Wilkes-Barre\, PA\, 18701\, United States
CATEGORIES:Girl Dinner
ATTACH;FMTTYPE=image/jpeg:https://bank-vine.com/wp-content/uploads/2025/10/bV-october-date-night.jpg
END:VEVENT
BEGIN:VEVENT
DTSTART;TZID=America/New_York:20251015T170000
DTEND;TZID=America/New_York:20251015T210000
DTSTAMP:20260419T143915
CREATED:20251007T173527Z
LAST-MODIFIED:20251007T173527Z
UID:2211-1760547600-1760562000@bank-vine.com
SUMMARY:Bank + Vine - Date Night
DESCRIPTION:
URL:https://bank-vine.com/event/bank-vine-date-night-25/
LOCATION:Bank+Vine\, 268 S. Main St.\, Wilkes-Barre\, PA\, 18701\, United States
CATEGORIES:Girl Dinner
ATTACH;FMTTYPE=image/jpeg:https://bank-vine.com/wp-content/uploads/2025/10/bV-october-date-night.jpg
END:VEVENT
BEGIN:VEVENT
DTSTART;TZID=America/New_York:20251012T100000
DTEND;TZID=America/New_York:20251012T150000
DTSTAMP:20260419T143915
CREATED:20251007T162021Z
LAST-MODIFIED:20251007T162021Z
UID:2203-1760263200-1760281200@bank-vine.com
SUMMARY:Bank + Vine - Girl Dinner
DESCRIPTION:
URL:https://bank-vine.com/event/bank-vine-girl-dinner-24/
LOCATION:Bank+Vine\, 268 S. Main St.\, Wilkes-Barre\, PA\, 18701\, United States
CATEGORIES:Girl Dinner
ATTACH;FMTTYPE=image/jpeg:https://bank-vine.com/wp-content/uploads/2025/10/girl-dinner.jpg
END:VEVENT
BEGIN:VEVENT
DTSTART;TZID=America/New_York:20251010T170000
DTEND;TZID=America/New_York:20251010T220000
DTSTAMP:20260419T143915
CREATED:20251007T161921Z
LAST-MODIFIED:20251007T161921Z
UID:2201-1760115600-1760133600@bank-vine.com
SUMMARY:Bank + Vine - Girl Dinner
DESCRIPTION:
URL:https://bank-vine.com/event/bank-vine-girl-dinner-23/
LOCATION:Bank+Vine\, 268 S. Main St.\, Wilkes-Barre\, PA\, 18701\, United States
CATEGORIES:Girl Dinner
ATTACH;FMTTYPE=image/jpeg:https://bank-vine.com/wp-content/uploads/2025/10/girl-dinner.jpg
END:VEVENT
BEGIN:VEVENT
DTSTART;TZID=America/New_York:20251009T170000
DTEND;TZID=America/New_York:20251009T210000
DTSTAMP:20260419T143915
CREATED:20251007T173451Z
LAST-MODIFIED:20251007T173451Z
UID:2210-1760029200-1760043600@bank-vine.com
SUMMARY:Bank + Vine - Date Night
DESCRIPTION:
URL:https://bank-vine.com/event/bank-vine-date-night-24/
LOCATION:Bank+Vine\, 268 S. Main St.\, Wilkes-Barre\, PA\, 18701\, United States
CATEGORIES:Girl Dinner
ATTACH;FMTTYPE=image/jpeg:https://bank-vine.com/wp-content/uploads/2025/10/bV-october-date-night.jpg
END:VEVENT
BEGIN:VEVENT
DTSTART;TZID=America/New_York:20251008T170000
DTEND;TZID=America/New_York:20251008T210000
DTSTAMP:20260419T143915
CREATED:20251007T173419Z
LAST-MODIFIED:20251007T173419Z
UID:2208-1759942800-1759957200@bank-vine.com
SUMMARY:Bank + Vine - Date Night
DESCRIPTION:
URL:https://bank-vine.com/event/bank-vine-date-night-23/
LOCATION:Bank+Vine\, 268 S. Main St.\, Wilkes-Barre\, PA\, 18701\, United States
CATEGORIES:Girl Dinner
ATTACH;FMTTYPE=image/jpeg:https://bank-vine.com/wp-content/uploads/2025/10/bV-october-date-night.jpg
END:VEVENT
BEGIN:VEVENT
DTSTART;TZID=America/New_York:20251004T170000
DTEND;TZID=America/New_York:20251004T220000
DTSTAMP:20260419T143915
CREATED:20250930T122818Z
LAST-MODIFIED:20250930T122818Z
UID:2197-1759597200-1759615200@bank-vine.com
SUMMARY:Bank + Vine - Fork Over Love Dinner
DESCRIPTION:
URL:https://bank-vine.com/event/bank-vine-fork-over-love-dinner-4/
LOCATION:Bank+Vine\, 268 S. Main St.\, Wilkes-Barre\, PA\, 18701\, United States
ATTACH;FMTTYPE=image/jpeg:https://bank-vine.com/wp-content/uploads/2025/09/fork-over-love-bank-n-vine-3-2.jpeg
END:VEVENT
BEGIN:VEVENT
DTSTART;TZID=America/New_York:20251003T170000
DTEND;TZID=America/New_York:20251003T220000
DTSTAMP:20260419T143915
CREATED:20250930T122752Z
LAST-MODIFIED:20250930T122752Z
UID:2196-1759510800-1759528800@bank-vine.com
SUMMARY:Bank + Vine - Fork Over Love Dinner
DESCRIPTION:
URL:https://bank-vine.com/event/bank-vine-fork-over-love-dinner-3/
LOCATION:Bank+Vine\, 268 S. Main St.\, Wilkes-Barre\, PA\, 18701\, United States
ATTACH;FMTTYPE=image/jpeg:https://bank-vine.com/wp-content/uploads/2025/09/fork-over-love-bank-n-vine-3-2.jpeg
END:VEVENT
BEGIN:VEVENT
DTSTART;TZID=America/New_York:20251002T170000
DTEND;TZID=America/New_York:20251002T220000
DTSTAMP:20260419T143915
CREATED:20250930T122724Z
LAST-MODIFIED:20250930T122724Z
UID:2195-1759424400-1759442400@bank-vine.com
SUMMARY:Bank + Vine - Fork Over Love Dinner
DESCRIPTION:
URL:https://bank-vine.com/event/bank-vine-fork-over-love-dinner-2/
LOCATION:Bank+Vine\, 268 S. Main St.\, Wilkes-Barre\, PA\, 18701\, United States
ATTACH;FMTTYPE=image/jpeg:https://bank-vine.com/wp-content/uploads/2025/09/fork-over-love-bank-n-vine-3-2.jpeg
END:VEVENT
BEGIN:VEVENT
DTSTART;TZID=America/New_York:20251001T170000
DTEND;TZID=America/New_York:20251001T220000
DTSTAMP:20260419T143915
CREATED:20250930T122644Z
LAST-MODIFIED:20250930T122644Z
UID:2193-1759338000-1759356000@bank-vine.com
SUMMARY:Bank + Vine - Fork Over Love Dinner
DESCRIPTION:
URL:https://bank-vine.com/event/bank-vine-fork-over-love-dinner/
LOCATION:Bank+Vine\, 268 S. Main St.\, Wilkes-Barre\, PA\, 18701\, United States
ATTACH;FMTTYPE=image/jpeg:https://bank-vine.com/wp-content/uploads/2025/09/fork-over-love-bank-n-vine-3-2.jpeg
END:VEVENT
END:VCALENDAR