BEGIN:VCALENDAR
VERSION:2.0
PRODID:-//Bank + Vine - ECPv6.15.17//NONSGML v1.0//EN
CALSCALE:GREGORIAN
METHOD:PUBLISH
X-WR-CALNAME:Bank + Vine
X-ORIGINAL-URL:https://bank-vine.com
X-WR-CALDESC:Events for Bank + Vine
REFRESH-INTERVAL;VALUE=DURATION:PT1H
X-Robots-Tag:noindex
X-PUBLISHED-TTL:PT1H
BEGIN:VTIMEZONE
TZID:America/New_York
BEGIN:DAYLIGHT
TZOFFSETFROM:-0500
TZOFFSETTO:-0400
TZNAME:EDT
DTSTART:20240310T070000
END:DAYLIGHT
BEGIN:STANDARD
TZOFFSETFROM:-0400
TZOFFSETTO:-0500
TZNAME:EST
DTSTART:20241103T060000
END:STANDARD
BEGIN:DAYLIGHT
TZOFFSETFROM:-0500
TZOFFSETTO:-0400
TZNAME:EDT
DTSTART:20250309T070000
END:DAYLIGHT
BEGIN:STANDARD
TZOFFSETFROM:-0400
TZOFFSETTO:-0500
TZNAME:EST
DTSTART:20251102T060000
END:STANDARD
BEGIN:DAYLIGHT
TZOFFSETFROM:-0500
TZOFFSETTO:-0400
TZNAME:EDT
DTSTART:20260308T070000
END:DAYLIGHT
BEGIN:STANDARD
TZOFFSETFROM:-0400
TZOFFSETTO:-0500
TZNAME:EST
DTSTART:20261101T060000
END:STANDARD
END:VTIMEZONE
BEGIN:VEVENT
DTSTART;TZID=America/New_York:20251016T170000
DTEND;TZID=America/New_York:20251016T210000
DTSTAMP:20260419T175526
CREATED:20251007T173556Z
LAST-MODIFIED:20251007T173556Z
UID:2212-1760634000-1760648400@bank-vine.com
SUMMARY:Bank + Vine - Date Night
DESCRIPTION:
URL:https://bank-vine.com/event/bank-vine-date-night-26/
LOCATION:Bank+Vine\, 268 S. Main St.\, Wilkes-Barre\, PA\, 18701\, United States
CATEGORIES:Girl Dinner
ATTACH;FMTTYPE=image/jpeg:https://bank-vine.com/wp-content/uploads/2025/10/bV-october-date-night.jpg
END:VEVENT
BEGIN:VEVENT
DTSTART;TZID=America/New_York:20251015T170000
DTEND;TZID=America/New_York:20251015T210000
DTSTAMP:20260419T175526
CREATED:20251007T173527Z
LAST-MODIFIED:20251007T173527Z
UID:2211-1760547600-1760562000@bank-vine.com
SUMMARY:Bank + Vine - Date Night
DESCRIPTION:
URL:https://bank-vine.com/event/bank-vine-date-night-25/
LOCATION:Bank+Vine\, 268 S. Main St.\, Wilkes-Barre\, PA\, 18701\, United States
CATEGORIES:Girl Dinner
ATTACH;FMTTYPE=image/jpeg:https://bank-vine.com/wp-content/uploads/2025/10/bV-october-date-night.jpg
END:VEVENT
BEGIN:VEVENT
DTSTART;TZID=America/New_York:20251012T100000
DTEND;TZID=America/New_York:20251012T150000
DTSTAMP:20260419T175526
CREATED:20251007T162021Z
LAST-MODIFIED:20251007T162021Z
UID:2203-1760263200-1760281200@bank-vine.com
SUMMARY:Bank + Vine - Girl Dinner
DESCRIPTION:
URL:https://bank-vine.com/event/bank-vine-girl-dinner-24/
LOCATION:Bank+Vine\, 268 S. Main St.\, Wilkes-Barre\, PA\, 18701\, United States
CATEGORIES:Girl Dinner
ATTACH;FMTTYPE=image/jpeg:https://bank-vine.com/wp-content/uploads/2025/10/girl-dinner.jpg
END:VEVENT
BEGIN:VEVENT
DTSTART;TZID=America/New_York:20251010T170000
DTEND;TZID=America/New_York:20251010T220000
DTSTAMP:20260419T175526
CREATED:20251007T161921Z
LAST-MODIFIED:20251007T161921Z
UID:2201-1760115600-1760133600@bank-vine.com
SUMMARY:Bank + Vine - Girl Dinner
DESCRIPTION:
URL:https://bank-vine.com/event/bank-vine-girl-dinner-23/
LOCATION:Bank+Vine\, 268 S. Main St.\, Wilkes-Barre\, PA\, 18701\, United States
CATEGORIES:Girl Dinner
ATTACH;FMTTYPE=image/jpeg:https://bank-vine.com/wp-content/uploads/2025/10/girl-dinner.jpg
END:VEVENT
BEGIN:VEVENT
DTSTART;TZID=America/New_York:20251009T170000
DTEND;TZID=America/New_York:20251009T210000
DTSTAMP:20260419T175526
CREATED:20251007T173451Z
LAST-MODIFIED:20251007T173451Z
UID:2210-1760029200-1760043600@bank-vine.com
SUMMARY:Bank + Vine - Date Night
DESCRIPTION:
URL:https://bank-vine.com/event/bank-vine-date-night-24/
LOCATION:Bank+Vine\, 268 S. Main St.\, Wilkes-Barre\, PA\, 18701\, United States
CATEGORIES:Girl Dinner
ATTACH;FMTTYPE=image/jpeg:https://bank-vine.com/wp-content/uploads/2025/10/bV-october-date-night.jpg
END:VEVENT
BEGIN:VEVENT
DTSTART;TZID=America/New_York:20251008T170000
DTEND;TZID=America/New_York:20251008T210000
DTSTAMP:20260419T175526
CREATED:20251007T173419Z
LAST-MODIFIED:20251007T173419Z
UID:2208-1759942800-1759957200@bank-vine.com
SUMMARY:Bank + Vine - Date Night
DESCRIPTION:
URL:https://bank-vine.com/event/bank-vine-date-night-23/
LOCATION:Bank+Vine\, 268 S. Main St.\, Wilkes-Barre\, PA\, 18701\, United States
CATEGORIES:Girl Dinner
ATTACH;FMTTYPE=image/jpeg:https://bank-vine.com/wp-content/uploads/2025/10/bV-october-date-night.jpg
END:VEVENT
BEGIN:VEVENT
DTSTART;TZID=America/New_York:20251004T170000
DTEND;TZID=America/New_York:20251004T220000
DTSTAMP:20260419T175526
CREATED:20250930T122818Z
LAST-MODIFIED:20250930T122818Z
UID:2197-1759597200-1759615200@bank-vine.com
SUMMARY:Bank + Vine - Fork Over Love Dinner
DESCRIPTION:
URL:https://bank-vine.com/event/bank-vine-fork-over-love-dinner-4/
LOCATION:Bank+Vine\, 268 S. Main St.\, Wilkes-Barre\, PA\, 18701\, United States
ATTACH;FMTTYPE=image/jpeg:https://bank-vine.com/wp-content/uploads/2025/09/fork-over-love-bank-n-vine-3-2.jpeg
END:VEVENT
BEGIN:VEVENT
DTSTART;TZID=America/New_York:20251003T170000
DTEND;TZID=America/New_York:20251003T220000
DTSTAMP:20260419T175526
CREATED:20250930T122752Z
LAST-MODIFIED:20250930T122752Z
UID:2196-1759510800-1759528800@bank-vine.com
SUMMARY:Bank + Vine - Fork Over Love Dinner
DESCRIPTION:
URL:https://bank-vine.com/event/bank-vine-fork-over-love-dinner-3/
LOCATION:Bank+Vine\, 268 S. Main St.\, Wilkes-Barre\, PA\, 18701\, United States
ATTACH;FMTTYPE=image/jpeg:https://bank-vine.com/wp-content/uploads/2025/09/fork-over-love-bank-n-vine-3-2.jpeg
END:VEVENT
BEGIN:VEVENT
DTSTART;TZID=America/New_York:20251002T170000
DTEND;TZID=America/New_York:20251002T220000
DTSTAMP:20260419T175526
CREATED:20250930T122724Z
LAST-MODIFIED:20250930T122724Z
UID:2195-1759424400-1759442400@bank-vine.com
SUMMARY:Bank + Vine - Fork Over Love Dinner
DESCRIPTION:
URL:https://bank-vine.com/event/bank-vine-fork-over-love-dinner-2/
LOCATION:Bank+Vine\, 268 S. Main St.\, Wilkes-Barre\, PA\, 18701\, United States
ATTACH;FMTTYPE=image/jpeg:https://bank-vine.com/wp-content/uploads/2025/09/fork-over-love-bank-n-vine-3-2.jpeg
END:VEVENT
BEGIN:VEVENT
DTSTART;TZID=America/New_York:20251001T170000
DTEND;TZID=America/New_York:20251001T220000
DTSTAMP:20260419T175526
CREATED:20250930T122644Z
LAST-MODIFIED:20250930T122644Z
UID:2193-1759338000-1759356000@bank-vine.com
SUMMARY:Bank + Vine - Fork Over Love Dinner
DESCRIPTION:
URL:https://bank-vine.com/event/bank-vine-fork-over-love-dinner/
LOCATION:Bank+Vine\, 268 S. Main St.\, Wilkes-Barre\, PA\, 18701\, United States
ATTACH;FMTTYPE=image/jpeg:https://bank-vine.com/wp-content/uploads/2025/09/fork-over-love-bank-n-vine-3-2.jpeg
END:VEVENT
BEGIN:VEVENT
DTSTART;TZID=America/New_York:20250928T100000
DTEND;TZID=America/New_York:20250928T150000
DTSTAMP:20260419T175526
CREATED:20250828T171523Z
LAST-MODIFIED:20250828T171523Z
UID:2165-1759053600-1759071600@bank-vine.com
SUMMARY:Bank + Vine - Girl Dinner
DESCRIPTION:
URL:https://bank-vine.com/event/bank-vine-girl-dinner-21/
LOCATION:Bank+Vine\, 268 S. Main St.\, Wilkes-Barre\, PA\, 18701\, United States
CATEGORIES:Girl Dinner
ATTACH;FMTTYPE=image/jpeg:https://bank-vine.com/wp-content/uploads/2025/08/september-girl-dinner-FINAL.jpg
END:VEVENT
BEGIN:VEVENT
DTSTART;VALUE=DATE:20250927
DTEND;VALUE=DATE:20250928
DTSTAMP:20260419T175526
CREATED:20250813T122651Z
LAST-MODIFIED:20250813T122703Z
UID:2132-1758931200-1759017599@bank-vine.com
SUMMARY:Bank + Vine - Closed For Private Event
DESCRIPTION:
URL:https://bank-vine.com/event/bank-vine-closed-for-private-event-4/
LOCATION:Bank+Vine\, 268 S. Main St.\, Wilkes-Barre\, PA\, 18701\, United States
ATTACH;FMTTYPE=image/jpeg:https://bank-vine.com/wp-content/uploads/2025/08/SEPT-27-1.jpeg
END:VEVENT
BEGIN:VEVENT
DTSTART;TZID=America/New_York:20250926T170000
DTEND;TZID=America/New_York:20250926T220000
DTSTAMP:20260419T175526
CREATED:20250828T171429Z
LAST-MODIFIED:20250828T171429Z
UID:2164-1758906000-1758924000@bank-vine.com
SUMMARY:Bank + Vine - Girl Dinner
DESCRIPTION:
URL:https://bank-vine.com/event/bank-vine-girl-dinner-20/
LOCATION:Bank+Vine\, 268 S. Main St.\, Wilkes-Barre\, PA\, 18701\, United States
CATEGORIES:Girl Dinner
ATTACH;FMTTYPE=image/jpeg:https://bank-vine.com/wp-content/uploads/2025/08/september-girl-dinner-FINAL.jpg
END:VEVENT
BEGIN:VEVENT
DTSTART;TZID=America/New_York:20250925T170000
DTEND;TZID=America/New_York:20250925T210000
DTSTAMP:20260419T175526
CREATED:20250828T170553Z
LAST-MODIFIED:20250829T131659Z
UID:2158-1758819600-1758834000@bank-vine.com
SUMMARY:Bank + Vine - Chef's Trio
DESCRIPTION:
URL:https://bank-vine.com/event/bank-vine-chefs-trio/
LOCATION:Bank+Vine\, 268 S. Main St.\, Wilkes-Barre\, PA\, 18701\, United States
ATTACH;FMTTYPE=image/jpeg:https://bank-vine.com/wp-content/uploads/2025/08/BV-the-chefs-trio-thursdays.jpg
END:VEVENT
BEGIN:VEVENT
DTSTART;TZID=America/New_York:20250924T170000
DTEND;TZID=America/New_York:20250924T210000
DTSTAMP:20260419T175526
CREATED:20250829T133447Z
LAST-MODIFIED:20250829T133447Z
UID:2174-1758733200-1758747600@bank-vine.com
SUMMARY:Bank + Vine - Date Night
DESCRIPTION:
URL:https://bank-vine.com/event/bank-vine-date-night-22/
LOCATION:Bank+Vine\, 268 S. Main St.\, Wilkes-Barre\, PA\, 18701\, United States
CATEGORIES:Date Night
ATTACH;FMTTYPE=image/jpeg:https://bank-vine.com/wp-content/uploads/2025/08/bV-augustseptember-date-night-2025.jpg
END:VEVENT
BEGIN:VEVENT
DTSTART;TZID=America/New_York:20250921T100000
DTEND;TZID=America/New_York:20250921T150000
DTSTAMP:20260419T175526
CREATED:20250828T171810Z
LAST-MODIFIED:20250828T171810Z
UID:2166-1758448800-1758466800@bank-vine.com
SUMMARY:Bank + Vine - Girl Dinner
DESCRIPTION:
URL:https://bank-vine.com/event/bank-vine-girl-dinner-22/
LOCATION:Bank+Vine\, 268 S. Main St.\, Wilkes-Barre\, PA\, 18701\, United States
CATEGORIES:Girl Dinner
ATTACH;FMTTYPE=image/jpeg:https://bank-vine.com/wp-content/uploads/2025/08/september-girl-dinner-FINAL.jpg
END:VEVENT
BEGIN:VEVENT
DTSTART;TZID=America/New_York:20250919T170000
DTEND;TZID=America/New_York:20250919T220000
DTSTAMP:20260419T175526
CREATED:20250828T171342Z
LAST-MODIFIED:20250828T171342Z
UID:2163-1758301200-1758319200@bank-vine.com
SUMMARY:Bank + Vine - Girl Dinner
DESCRIPTION:
URL:https://bank-vine.com/event/bank-vine-girl-dinner-19/
LOCATION:Bank+Vine\, 268 S. Main St.\, Wilkes-Barre\, PA\, 18701\, United States
CATEGORIES:Girl Dinner
ATTACH;FMTTYPE=image/jpeg:https://bank-vine.com/wp-content/uploads/2025/08/september-girl-dinner-FINAL.jpg
END:VEVENT
BEGIN:VEVENT
DTSTART;TZID=America/New_York:20250918T170000
DTEND;TZID=America/New_York:20250918T210000
DTSTAMP:20260419T175526
CREATED:20250828T170355Z
LAST-MODIFIED:20250829T170420Z
UID:2157-1758214800-1758229200@bank-vine.com
SUMMARY:Bank + Vine - Chef's Trio
DESCRIPTION:
URL:https://bank-vine.com/event/bank-vine-chefs-trio-2/
LOCATION:Bank+Vine\, 268 S. Main St.\, Wilkes-Barre\, PA\, 18701\, United States
ATTACH;FMTTYPE=image/jpeg:https://bank-vine.com/wp-content/uploads/2025/08/pastas.jpg
END:VEVENT
BEGIN:VEVENT
DTSTART;TZID=America/New_York:20250917T170000
DTEND;TZID=America/New_York:20250917T210000
DTSTAMP:20260419T175526
CREATED:20250829T133053Z
LAST-MODIFIED:20250829T133053Z
UID:2173-1758128400-1758142800@bank-vine.com
SUMMARY:Bank + Vine - Date Night
DESCRIPTION:
URL:https://bank-vine.com/event/bank-vine-date-night-21/
LOCATION:Bank+Vine\, 268 S. Main St.\, Wilkes-Barre\, PA\, 18701\, United States
CATEGORIES:Date Night
ATTACH;FMTTYPE=image/jpeg:https://bank-vine.com/wp-content/uploads/2025/08/bV-augustseptember-date-night-2025.jpg
END:VEVENT
BEGIN:VEVENT
DTSTART;TZID=America/New_York:20250914T100000
DTEND;TZID=America/New_York:20250914T150000
DTSTAMP:20260419T175526
CREATED:20250828T171259Z
LAST-MODIFIED:20250828T171259Z
UID:2162-1757844000-1757862000@bank-vine.com
SUMMARY:Bank + Vine - Girl Dinner
DESCRIPTION:
URL:https://bank-vine.com/event/bank-vine-girl-dinner-18/
LOCATION:Bank+Vine\, 268 S. Main St.\, Wilkes-Barre\, PA\, 18701\, United States
CATEGORIES:Girl Dinner
ATTACH;FMTTYPE=image/jpeg:https://bank-vine.com/wp-content/uploads/2025/08/september-girl-dinner-FINAL.jpg
END:VEVENT
BEGIN:VEVENT
DTSTART;VALUE=DATE:20250913
DTEND;VALUE=DATE:20250914
DTSTAMP:20260419T175526
CREATED:20250813T122317Z
LAST-MODIFIED:20250813T122317Z
UID:2130-1757721600-1757807999@bank-vine.com
SUMMARY:Bank + Vine - Closed For Private Event
DESCRIPTION:
URL:https://bank-vine.com/event/bank-vine-closed-for-private-event-2/
LOCATION:Bank+Vine\, 268 S. Main St.\, Wilkes-Barre\, PA\, 18701\, United States
ATTACH;FMTTYPE=image/jpeg:https://bank-vine.com/wp-content/uploads/2025/08/SEPT-13-1.jpeg
END:VEVENT
BEGIN:VEVENT
DTSTART;TZID=America/New_York:20250912T170000
DTEND;TZID=America/New_York:20250912T220000
DTSTAMP:20260419T175526
CREATED:20250828T171153Z
LAST-MODIFIED:20250828T171217Z
UID:2161-1757696400-1757714400@bank-vine.com
SUMMARY:Bank + Vine - Girl Dinner
DESCRIPTION:
URL:https://bank-vine.com/event/bank-vine-girl-dinner-17/
LOCATION:Bank+Vine\, 268 S. Main St.\, Wilkes-Barre\, PA\, 18701\, United States
CATEGORIES:Girl Dinner
ATTACH;FMTTYPE=image/jpeg:https://bank-vine.com/wp-content/uploads/2025/08/september-girl-dinner-FINAL.jpg
END:VEVENT
BEGIN:VEVENT
DTSTART;TZID=America/New_York:20250911T170000
DTEND;TZID=America/New_York:20250911T210000
DTSTAMP:20260419T175526
CREATED:20250828T170319Z
LAST-MODIFIED:20250909T135609Z
UID:2156-1757610000-1757624400@bank-vine.com
SUMMARY:Bank + Vine - Chef's Trio
DESCRIPTION:
URL:https://bank-vine.com/event/bank-vine-chefs-trio-3/
LOCATION:Bank+Vine\, 268 S. Main St.\, Wilkes-Barre\, PA\, 18701\, United States
ATTACH;FMTTYPE=image/jpeg:https://bank-vine.com/wp-content/uploads/2025/08/sliders-1.jpg
END:VEVENT
BEGIN:VEVENT
DTSTART;TZID=America/New_York:20250910T170000
DTEND;TZID=America/New_York:20250910T210000
DTSTAMP:20260419T175526
CREATED:20250829T133021Z
LAST-MODIFIED:20250829T133021Z
UID:2172-1757523600-1757538000@bank-vine.com
SUMMARY:Bank + Vine - Date Night
DESCRIPTION:
URL:https://bank-vine.com/event/bank-vine-date-night-20/
LOCATION:Bank+Vine\, 268 S. Main St.\, Wilkes-Barre\, PA\, 18701\, United States
CATEGORIES:Date Night
ATTACH;FMTTYPE=image/jpeg:https://bank-vine.com/wp-content/uploads/2025/08/bV-augustseptember-date-night-2025.jpg
END:VEVENT
BEGIN:VEVENT
DTSTART;TZID=America/New_York:20250907T100000
DTEND;TZID=America/New_York:20250907T150000
DTSTAMP:20260419T175526
CREATED:20250828T171103Z
LAST-MODIFIED:20250828T171103Z
UID:2160-1757239200-1757257200@bank-vine.com
SUMMARY:Bank + Vine - Girl Dinner
DESCRIPTION:
URL:https://bank-vine.com/event/bank-vine-girl-dinner-16/
LOCATION:Bank+Vine\, 268 S. Main St.\, Wilkes-Barre\, PA\, 18701\, United States
CATEGORIES:Girl Dinner
ATTACH;FMTTYPE=image/jpeg:https://bank-vine.com/wp-content/uploads/2025/08/september-girl-dinner-FINAL.jpg
END:VEVENT
BEGIN:VEVENT
DTSTART;VALUE=DATE:20250906
DTEND;VALUE=DATE:20250907
DTSTAMP:20260419T175526
CREATED:20250813T122215Z
LAST-MODIFIED:20250813T122215Z
UID:2125-1757116800-1757203199@bank-vine.com
SUMMARY:Bank + Vine - Closed For Private Event
DESCRIPTION:
URL:https://bank-vine.com/event/bank-vine-closed-for-private-event/
LOCATION:Bank+Vine\, 268 S. Main St.\, Wilkes-Barre\, PA\, 18701\, United States
ATTACH;FMTTYPE=image/jpeg:https://bank-vine.com/wp-content/uploads/2025/08/SEPT-6-1.jpeg
END:VEVENT
BEGIN:VEVENT
DTSTART;TZID=America/New_York:20250905T170000
DTEND;TZID=America/New_York:20250905T220000
DTSTAMP:20260419T175526
CREATED:20250828T171008Z
LAST-MODIFIED:20250828T171014Z
UID:2159-1757091600-1757109600@bank-vine.com
SUMMARY:Bank + Vine - Girl Dinner
DESCRIPTION:
URL:https://bank-vine.com/event/bank-vine-girl-dinner-15/
LOCATION:Bank+Vine\, 268 S. Main St.\, Wilkes-Barre\, PA\, 18701\, United States
CATEGORIES:Girl Dinner
ATTACH;FMTTYPE=image/jpeg:https://bank-vine.com/wp-content/uploads/2025/08/september-girl-dinner-FINAL.jpg
END:VEVENT
BEGIN:VEVENT
DTSTART;VALUE=DATE:20250904
DTEND;VALUE=DATE:20250905
DTSTAMP:20260419T175526
CREATED:20250828T170252Z
LAST-MODIFIED:20250829T170117Z
UID:2153-1756944000-1757030399@bank-vine.com
SUMMARY:Bank + Vine - Chef's Trio
DESCRIPTION:
URL:https://bank-vine.com/event/bank-vine-chefs-trio-4/
LOCATION:Bank+Vine\, 268 S. Main St.\, Wilkes-Barre\, PA\, 18701\, United States
ATTACH;FMTTYPE=image/jpeg:https://bank-vine.com/wp-content/uploads/2025/08/burrato-sept-4.jpg
END:VEVENT
BEGIN:VEVENT
DTSTART;TZID=America/New_York:20250903T170000
DTEND;TZID=America/New_York:20250903T210000
DTSTAMP:20260419T175526
CREATED:20250829T132829Z
LAST-MODIFIED:20250829T132829Z
UID:2170-1756918800-1756933200@bank-vine.com
SUMMARY:Bank + Vine - Date Night
DESCRIPTION:
URL:https://bank-vine.com/event/bank-vine-date-night-19/
LOCATION:Bank+Vine\, 268 S. Main St.\, Wilkes-Barre\, PA\, 18701\, United States
CATEGORIES:Date Night
ATTACH;FMTTYPE=image/jpeg:https://bank-vine.com/wp-content/uploads/2025/08/bV-augustseptember-date-night-2025.jpg
END:VEVENT
BEGIN:VEVENT
DTSTART;TZID=America/New_York:20250830T160000
DTEND;TZID=America/New_York:20250830T220000
DTSTAMP:20260419T175526
CREATED:20250731T161903Z
LAST-MODIFIED:20250806T143734Z
UID:2106-1756569600-1756591200@bank-vine.com
SUMMARY:Bank + Vine - Date Night
DESCRIPTION:
URL:https://bank-vine.com/event/bank-vine-date-night-18/
LOCATION:Bank+Vine\, 268 S. Main St.\, Wilkes-Barre\, PA\, 18701\, United States
CATEGORIES:Date Night
ATTACH;FMTTYPE=image/jpeg:https://bank-vine.com/wp-content/uploads/2025/07/bV-august-date-night-2025-1.jpg
END:VEVENT
END:VCALENDAR