BEGIN:VCALENDAR
VERSION:2.0
PRODID:-//Bank + Vine - ECPv6.15.17//NONSGML v1.0//EN
CALSCALE:GREGORIAN
METHOD:PUBLISH
X-ORIGINAL-URL:https://bank-vine.com
X-WR-CALDESC:Events for Bank + Vine
REFRESH-INTERVAL;VALUE=DURATION:PT1H
X-Robots-Tag:noindex
X-PUBLISHED-TTL:PT1H
BEGIN:VTIMEZONE
TZID:America/New_York
BEGIN:DAYLIGHT
TZOFFSETFROM:-0500
TZOFFSETTO:-0400
TZNAME:EDT
DTSTART:20250309T070000
END:DAYLIGHT
BEGIN:STANDARD
TZOFFSETFROM:-0400
TZOFFSETTO:-0500
TZNAME:EST
DTSTART:20251102T060000
END:STANDARD
BEGIN:DAYLIGHT
TZOFFSETFROM:-0500
TZOFFSETTO:-0400
TZNAME:EDT
DTSTART:20260308T070000
END:DAYLIGHT
BEGIN:STANDARD
TZOFFSETFROM:-0400
TZOFFSETTO:-0500
TZNAME:EST
DTSTART:20261101T060000
END:STANDARD
BEGIN:DAYLIGHT
TZOFFSETFROM:-0500
TZOFFSETTO:-0400
TZNAME:EDT
DTSTART:20270314T070000
END:DAYLIGHT
BEGIN:STANDARD
TZOFFSETFROM:-0400
TZOFFSETTO:-0500
TZNAME:EST
DTSTART:20271107T060000
END:STANDARD
END:VTIMEZONE
BEGIN:VEVENT
DTSTART;TZID=America/New_York:20260301T110000
DTEND;TZID=America/New_York:20260301T150000
DTSTAMP:20260424T064146
CREATED:20260113T145044Z
LAST-MODIFIED:20260113T145044Z
UID:2303-1772362800-1772377200@bank-vine.com
SUMMARY:Bank + Vine  - Bridgerton Brunch
DESCRIPTION:
URL:https://bank-vine.com/event/bank-vine-bridgerton-brunch/
LOCATION:Bank+Vine\, 268 S. Main St.\, Wilkes-Barre\, PA\, 18701\, United States
CATEGORIES:Brunch
ATTACH;FMTTYPE=image/jpeg:https://bank-vine.com/wp-content/uploads/2026/01/613643549_1479204917545814_4305210169748576717_n.jpg
END:VEVENT
END:VCALENDAR